BEGIN:VCALENDAR
VERSION:2.0
PRODID:-//CTSILC - ECPv6.15.20//NONSGML v1.0//EN
CALSCALE:GREGORIAN
METHOD:PUBLISH
X-WR-CALNAME:CTSILC
X-ORIGINAL-URL:https://ctsilc.org
X-WR-CALDESC:Events for CTSILC
REFRESH-INTERVAL;VALUE=DURATION:PT1H
X-Robots-Tag:noindex
X-PUBLISHED-TTL:PT1H
BEGIN:VTIMEZONE
TZID:UTC
BEGIN:STANDARD
TZOFFSETFROM:+0000
TZOFFSETTO:+0000
TZNAME:UTC
DTSTART:20270101T000000
END:STANDARD
END:VTIMEZONE
BEGIN:VEVENT
DTSTART;TZID=UTC:20281229T120000
DTEND;TZID=UTC:20281229T130000
DTSTAMP:20260425T122722
CREATED:20260211T205749Z
LAST-MODIFIED:20260211T211922Z
UID:10001405-1861704000-1861707600@ctsilc.org
SUMMARY:CT Cross Disability Lifespan Alliance
DESCRIPTION:All meetings are virtual every Friday from\n12:00-1:00 PM \n\nTo join our virtual meeting please email Michele DuBois for a Zoom link. 
URL:https://ctsilc.org/event/ct-cross-disability-lifespan-alliance/2028-12-29/
LOCATION:Virtual Via Zoom
CATEGORIES:Cross Disability Lifespan Alliance Policy/Legislative meetings
ATTACH;FMTTYPE=image/png:https://ctsilc.org/wp-content/uploads/2026/02/ccdla-512-e1770845852884.png
END:VEVENT
BEGIN:VEVENT
DTSTART;TZID=UTC:20290105T120000
DTEND;TZID=UTC:20290105T130000
DTSTAMP:20260425T122722
CREATED:20260211T205749Z
LAST-MODIFIED:20260211T211922Z
UID:10001406-1862308800-1862312400@ctsilc.org
SUMMARY:CT Cross Disability Lifespan Alliance
DESCRIPTION:All meetings are virtual every Friday from\n12:00-1:00 PM \n\nTo join our virtual meeting please email Michele DuBois for a Zoom link. 
URL:https://ctsilc.org/event/ct-cross-disability-lifespan-alliance/2029-01-05/
LOCATION:Virtual Via Zoom
CATEGORIES:Cross Disability Lifespan Alliance Policy/Legislative meetings
ATTACH;FMTTYPE=image/png:https://ctsilc.org/wp-content/uploads/2026/02/ccdla-512-e1770845852884.png
END:VEVENT
BEGIN:VEVENT
DTSTART;TZID=UTC:20290112T120000
DTEND;TZID=UTC:20290112T130000
DTSTAMP:20260425T122722
CREATED:20260211T205749Z
LAST-MODIFIED:20260211T211922Z
UID:10001407-1862913600-1862917200@ctsilc.org
SUMMARY:CT Cross Disability Lifespan Alliance
DESCRIPTION:All meetings are virtual every Friday from\n12:00-1:00 PM \n\nTo join our virtual meeting please email Michele DuBois for a Zoom link. 
URL:https://ctsilc.org/event/ct-cross-disability-lifespan-alliance/2029-01-12/
LOCATION:Virtual Via Zoom
CATEGORIES:Cross Disability Lifespan Alliance Policy/Legislative meetings
ATTACH;FMTTYPE=image/png:https://ctsilc.org/wp-content/uploads/2026/02/ccdla-512-e1770845852884.png
END:VEVENT
BEGIN:VEVENT
DTSTART;TZID=UTC:20290119T120000
DTEND;TZID=UTC:20290119T130000
DTSTAMP:20260425T122722
CREATED:20260211T205749Z
LAST-MODIFIED:20260211T211922Z
UID:10001408-1863518400-1863522000@ctsilc.org
SUMMARY:CT Cross Disability Lifespan Alliance
DESCRIPTION:All meetings are virtual every Friday from\n12:00-1:00 PM \n\nTo join our virtual meeting please email Michele DuBois for a Zoom link. 
URL:https://ctsilc.org/event/ct-cross-disability-lifespan-alliance/2029-01-19/
LOCATION:Virtual Via Zoom
CATEGORIES:Cross Disability Lifespan Alliance Policy/Legislative meetings
ATTACH;FMTTYPE=image/png:https://ctsilc.org/wp-content/uploads/2026/02/ccdla-512-e1770845852884.png
END:VEVENT
BEGIN:VEVENT
DTSTART;TZID=UTC:20290126T120000
DTEND;TZID=UTC:20290126T130000
DTSTAMP:20260425T122722
CREATED:20260211T205749Z
LAST-MODIFIED:20260211T211922Z
UID:10001409-1864123200-1864126800@ctsilc.org
SUMMARY:CT Cross Disability Lifespan Alliance
DESCRIPTION:All meetings are virtual every Friday from\n12:00-1:00 PM \n\nTo join our virtual meeting please email Michele DuBois for a Zoom link. 
URL:https://ctsilc.org/event/ct-cross-disability-lifespan-alliance/2029-01-26/
LOCATION:Virtual Via Zoom
CATEGORIES:Cross Disability Lifespan Alliance Policy/Legislative meetings
ATTACH;FMTTYPE=image/png:https://ctsilc.org/wp-content/uploads/2026/02/ccdla-512-e1770845852884.png
END:VEVENT
BEGIN:VEVENT
DTSTART;TZID=UTC:20290202T120000
DTEND;TZID=UTC:20290202T130000
DTSTAMP:20260425T122722
CREATED:20260211T205749Z
LAST-MODIFIED:20260211T211922Z
UID:10001410-1864728000-1864731600@ctsilc.org
SUMMARY:CT Cross Disability Lifespan Alliance
DESCRIPTION:All meetings are virtual every Friday from\n12:00-1:00 PM \n\nTo join our virtual meeting please email Michele DuBois for a Zoom link. 
URL:https://ctsilc.org/event/ct-cross-disability-lifespan-alliance/2029-02-02/
LOCATION:Virtual Via Zoom
CATEGORIES:Cross Disability Lifespan Alliance Policy/Legislative meetings
ATTACH;FMTTYPE=image/png:https://ctsilc.org/wp-content/uploads/2026/02/ccdla-512-e1770845852884.png
END:VEVENT
BEGIN:VEVENT
DTSTART;TZID=UTC:20290209T120000
DTEND;TZID=UTC:20290209T130000
DTSTAMP:20260425T122722
CREATED:20260211T205749Z
LAST-MODIFIED:20260211T211922Z
UID:10001411-1865332800-1865336400@ctsilc.org
SUMMARY:CT Cross Disability Lifespan Alliance
DESCRIPTION:All meetings are virtual every Friday from\n12:00-1:00 PM \n\nTo join our virtual meeting please email Michele DuBois for a Zoom link. 
URL:https://ctsilc.org/event/ct-cross-disability-lifespan-alliance/2029-02-09/
LOCATION:Virtual Via Zoom
CATEGORIES:Cross Disability Lifespan Alliance Policy/Legislative meetings
ATTACH;FMTTYPE=image/png:https://ctsilc.org/wp-content/uploads/2026/02/ccdla-512-e1770845852884.png
END:VEVENT
BEGIN:VEVENT
DTSTART;TZID=UTC:20290216T120000
DTEND;TZID=UTC:20290216T130000
DTSTAMP:20260425T122722
CREATED:20260211T205749Z
LAST-MODIFIED:20260211T211922Z
UID:10001412-1865937600-1865941200@ctsilc.org
SUMMARY:CT Cross Disability Lifespan Alliance
DESCRIPTION:All meetings are virtual every Friday from\n12:00-1:00 PM \n\nTo join our virtual meeting please email Michele DuBois for a Zoom link. 
URL:https://ctsilc.org/event/ct-cross-disability-lifespan-alliance/2029-02-16/
LOCATION:Virtual Via Zoom
CATEGORIES:Cross Disability Lifespan Alliance Policy/Legislative meetings
ATTACH;FMTTYPE=image/png:https://ctsilc.org/wp-content/uploads/2026/02/ccdla-512-e1770845852884.png
END:VEVENT
BEGIN:VEVENT
DTSTART;TZID=UTC:20290223T120000
DTEND;TZID=UTC:20290223T130000
DTSTAMP:20260425T122722
CREATED:20260211T205749Z
LAST-MODIFIED:20260211T211922Z
UID:10001413-1866542400-1866546000@ctsilc.org
SUMMARY:CT Cross Disability Lifespan Alliance
DESCRIPTION:All meetings are virtual every Friday from\n12:00-1:00 PM \n\nTo join our virtual meeting please email Michele DuBois for a Zoom link. 
URL:https://ctsilc.org/event/ct-cross-disability-lifespan-alliance/2029-02-23/
LOCATION:Virtual Via Zoom
CATEGORIES:Cross Disability Lifespan Alliance Policy/Legislative meetings
ATTACH;FMTTYPE=image/png:https://ctsilc.org/wp-content/uploads/2026/02/ccdla-512-e1770845852884.png
END:VEVENT
BEGIN:VEVENT
DTSTART;TZID=UTC:20290302T120000
DTEND;TZID=UTC:20290302T130000
DTSTAMP:20260425T122722
CREATED:20260211T205749Z
LAST-MODIFIED:20260211T211922Z
UID:10001414-1867147200-1867150800@ctsilc.org
SUMMARY:CT Cross Disability Lifespan Alliance
DESCRIPTION:All meetings are virtual every Friday from\n12:00-1:00 PM \n\nTo join our virtual meeting please email Michele DuBois for a Zoom link. 
URL:https://ctsilc.org/event/ct-cross-disability-lifespan-alliance/2029-03-02/
LOCATION:Virtual Via Zoom
CATEGORIES:Cross Disability Lifespan Alliance Policy/Legislative meetings
ATTACH;FMTTYPE=image/png:https://ctsilc.org/wp-content/uploads/2026/02/ccdla-512-e1770845852884.png
END:VEVENT
BEGIN:VEVENT
DTSTART;TZID=UTC:20290309T120000
DTEND;TZID=UTC:20290309T130000
DTSTAMP:20260425T122722
CREATED:20260211T205749Z
LAST-MODIFIED:20260211T211922Z
UID:10001415-1867752000-1867755600@ctsilc.org
SUMMARY:CT Cross Disability Lifespan Alliance
DESCRIPTION:All meetings are virtual every Friday from\n12:00-1:00 PM \n\nTo join our virtual meeting please email Michele DuBois for a Zoom link. 
URL:https://ctsilc.org/event/ct-cross-disability-lifespan-alliance/2029-03-09/
LOCATION:Virtual Via Zoom
CATEGORIES:Cross Disability Lifespan Alliance Policy/Legislative meetings
ATTACH;FMTTYPE=image/png:https://ctsilc.org/wp-content/uploads/2026/02/ccdla-512-e1770845852884.png
END:VEVENT
BEGIN:VEVENT
DTSTART;TZID=UTC:20290316T120000
DTEND;TZID=UTC:20290316T130000
DTSTAMP:20260425T122722
CREATED:20260211T205749Z
LAST-MODIFIED:20260211T211922Z
UID:10001416-1868356800-1868360400@ctsilc.org
SUMMARY:CT Cross Disability Lifespan Alliance
DESCRIPTION:All meetings are virtual every Friday from\n12:00-1:00 PM \n\nTo join our virtual meeting please email Michele DuBois for a Zoom link. 
URL:https://ctsilc.org/event/ct-cross-disability-lifespan-alliance/2029-03-16/
LOCATION:Virtual Via Zoom
CATEGORIES:Cross Disability Lifespan Alliance Policy/Legislative meetings
ATTACH;FMTTYPE=image/png:https://ctsilc.org/wp-content/uploads/2026/02/ccdla-512-e1770845852884.png
END:VEVENT
BEGIN:VEVENT
DTSTART;TZID=UTC:20290323T120000
DTEND;TZID=UTC:20290323T130000
DTSTAMP:20260425T122722
CREATED:20260211T205749Z
LAST-MODIFIED:20260211T211922Z
UID:10001417-1868961600-1868965200@ctsilc.org
SUMMARY:CT Cross Disability Lifespan Alliance
DESCRIPTION:All meetings are virtual every Friday from\n12:00-1:00 PM \n\nTo join our virtual meeting please email Michele DuBois for a Zoom link. 
URL:https://ctsilc.org/event/ct-cross-disability-lifespan-alliance/2029-03-23/
LOCATION:Virtual Via Zoom
CATEGORIES:Cross Disability Lifespan Alliance Policy/Legislative meetings
ATTACH;FMTTYPE=image/png:https://ctsilc.org/wp-content/uploads/2026/02/ccdla-512-e1770845852884.png
END:VEVENT
BEGIN:VEVENT
DTSTART;TZID=UTC:20290330T120000
DTEND;TZID=UTC:20290330T130000
DTSTAMP:20260425T122722
CREATED:20260211T205749Z
LAST-MODIFIED:20260211T211922Z
UID:10001418-1869566400-1869570000@ctsilc.org
SUMMARY:CT Cross Disability Lifespan Alliance
DESCRIPTION:All meetings are virtual every Friday from\n12:00-1:00 PM \n\nTo join our virtual meeting please email Michele DuBois for a Zoom link. 
URL:https://ctsilc.org/event/ct-cross-disability-lifespan-alliance/2029-03-30/
LOCATION:Virtual Via Zoom
CATEGORIES:Cross Disability Lifespan Alliance Policy/Legislative meetings
ATTACH;FMTTYPE=image/png:https://ctsilc.org/wp-content/uploads/2026/02/ccdla-512-e1770845852884.png
END:VEVENT
BEGIN:VEVENT
DTSTART;TZID=UTC:20290406T120000
DTEND;TZID=UTC:20290406T130000
DTSTAMP:20260425T122722
CREATED:20260211T205749Z
LAST-MODIFIED:20260211T211922Z
UID:10001419-1870171200-1870174800@ctsilc.org
SUMMARY:CT Cross Disability Lifespan Alliance
DESCRIPTION:All meetings are virtual every Friday from\n12:00-1:00 PM \n\nTo join our virtual meeting please email Michele DuBois for a Zoom link. 
URL:https://ctsilc.org/event/ct-cross-disability-lifespan-alliance/2029-04-06/
LOCATION:Virtual Via Zoom
CATEGORIES:Cross Disability Lifespan Alliance Policy/Legislative meetings
ATTACH;FMTTYPE=image/png:https://ctsilc.org/wp-content/uploads/2026/02/ccdla-512-e1770845852884.png
END:VEVENT
BEGIN:VEVENT
DTSTART;TZID=UTC:20290413T120000
DTEND;TZID=UTC:20290413T130000
DTSTAMP:20260425T122722
CREATED:20260211T205749Z
LAST-MODIFIED:20260211T211922Z
UID:10001420-1870776000-1870779600@ctsilc.org
SUMMARY:CT Cross Disability Lifespan Alliance
DESCRIPTION:All meetings are virtual every Friday from\n12:00-1:00 PM \n\nTo join our virtual meeting please email Michele DuBois for a Zoom link. 
URL:https://ctsilc.org/event/ct-cross-disability-lifespan-alliance/2029-04-13/
LOCATION:Virtual Via Zoom
CATEGORIES:Cross Disability Lifespan Alliance Policy/Legislative meetings
ATTACH;FMTTYPE=image/png:https://ctsilc.org/wp-content/uploads/2026/02/ccdla-512-e1770845852884.png
END:VEVENT
BEGIN:VEVENT
DTSTART;TZID=UTC:20290420T120000
DTEND;TZID=UTC:20290420T130000
DTSTAMP:20260425T122722
CREATED:20260211T205749Z
LAST-MODIFIED:20260211T211922Z
UID:10001421-1871380800-1871384400@ctsilc.org
SUMMARY:CT Cross Disability Lifespan Alliance
DESCRIPTION:All meetings are virtual every Friday from\n12:00-1:00 PM \n\nTo join our virtual meeting please email Michele DuBois for a Zoom link. 
URL:https://ctsilc.org/event/ct-cross-disability-lifespan-alliance/2029-04-20/
LOCATION:Virtual Via Zoom
CATEGORIES:Cross Disability Lifespan Alliance Policy/Legislative meetings
ATTACH;FMTTYPE=image/png:https://ctsilc.org/wp-content/uploads/2026/02/ccdla-512-e1770845852884.png
END:VEVENT
BEGIN:VEVENT
DTSTART;TZID=UTC:20290427T120000
DTEND;TZID=UTC:20290427T130000
DTSTAMP:20260425T122722
CREATED:20260211T205749Z
LAST-MODIFIED:20260211T211922Z
UID:10001422-1871985600-1871989200@ctsilc.org
SUMMARY:CT Cross Disability Lifespan Alliance
DESCRIPTION:All meetings are virtual every Friday from\n12:00-1:00 PM \n\nTo join our virtual meeting please email Michele DuBois for a Zoom link. 
URL:https://ctsilc.org/event/ct-cross-disability-lifespan-alliance/2029-04-27/
LOCATION:Virtual Via Zoom
CATEGORIES:Cross Disability Lifespan Alliance Policy/Legislative meetings
ATTACH;FMTTYPE=image/png:https://ctsilc.org/wp-content/uploads/2026/02/ccdla-512-e1770845852884.png
END:VEVENT
BEGIN:VEVENT
DTSTART;TZID=UTC:20290504T120000
DTEND;TZID=UTC:20290504T130000
DTSTAMP:20260425T122722
CREATED:20260211T205749Z
LAST-MODIFIED:20260211T211922Z
UID:10001423-1872590400-1872594000@ctsilc.org
SUMMARY:CT Cross Disability Lifespan Alliance
DESCRIPTION:All meetings are virtual every Friday from\n12:00-1:00 PM \n\nTo join our virtual meeting please email Michele DuBois for a Zoom link. 
URL:https://ctsilc.org/event/ct-cross-disability-lifespan-alliance/2029-05-04/
LOCATION:Virtual Via Zoom
CATEGORIES:Cross Disability Lifespan Alliance Policy/Legislative meetings
ATTACH;FMTTYPE=image/png:https://ctsilc.org/wp-content/uploads/2026/02/ccdla-512-e1770845852884.png
END:VEVENT
BEGIN:VEVENT
DTSTART;TZID=UTC:20290511T120000
DTEND;TZID=UTC:20290511T130000
DTSTAMP:20260425T122722
CREATED:20260211T205749Z
LAST-MODIFIED:20260211T211922Z
UID:10001424-1873195200-1873198800@ctsilc.org
SUMMARY:CT Cross Disability Lifespan Alliance
DESCRIPTION:All meetings are virtual every Friday from\n12:00-1:00 PM \n\nTo join our virtual meeting please email Michele DuBois for a Zoom link. 
URL:https://ctsilc.org/event/ct-cross-disability-lifespan-alliance/2029-05-11/
LOCATION:Virtual Via Zoom
CATEGORIES:Cross Disability Lifespan Alliance Policy/Legislative meetings
ATTACH;FMTTYPE=image/png:https://ctsilc.org/wp-content/uploads/2026/02/ccdla-512-e1770845852884.png
END:VEVENT
BEGIN:VEVENT
DTSTART;TZID=UTC:20290518T120000
DTEND;TZID=UTC:20290518T130000
DTSTAMP:20260425T122722
CREATED:20260211T205749Z
LAST-MODIFIED:20260211T211922Z
UID:10001425-1873800000-1873803600@ctsilc.org
SUMMARY:CT Cross Disability Lifespan Alliance
DESCRIPTION:All meetings are virtual every Friday from\n12:00-1:00 PM \n\nTo join our virtual meeting please email Michele DuBois for a Zoom link. 
URL:https://ctsilc.org/event/ct-cross-disability-lifespan-alliance/2029-05-18/
LOCATION:Virtual Via Zoom
CATEGORIES:Cross Disability Lifespan Alliance Policy/Legislative meetings
ATTACH;FMTTYPE=image/png:https://ctsilc.org/wp-content/uploads/2026/02/ccdla-512-e1770845852884.png
END:VEVENT
BEGIN:VEVENT
DTSTART;TZID=UTC:20290525T120000
DTEND;TZID=UTC:20290525T130000
DTSTAMP:20260425T122722
CREATED:20260211T205749Z
LAST-MODIFIED:20260211T211922Z
UID:10001426-1874404800-1874408400@ctsilc.org
SUMMARY:CT Cross Disability Lifespan Alliance
DESCRIPTION:All meetings are virtual every Friday from\n12:00-1:00 PM \n\nTo join our virtual meeting please email Michele DuBois for a Zoom link. 
URL:https://ctsilc.org/event/ct-cross-disability-lifespan-alliance/2029-05-25/
LOCATION:Virtual Via Zoom
CATEGORIES:Cross Disability Lifespan Alliance Policy/Legislative meetings
ATTACH;FMTTYPE=image/png:https://ctsilc.org/wp-content/uploads/2026/02/ccdla-512-e1770845852884.png
END:VEVENT
BEGIN:VEVENT
DTSTART;TZID=UTC:20290601T120000
DTEND;TZID=UTC:20290601T130000
DTSTAMP:20260425T122722
CREATED:20260211T205749Z
LAST-MODIFIED:20260211T211922Z
UID:10001427-1875009600-1875013200@ctsilc.org
SUMMARY:CT Cross Disability Lifespan Alliance
DESCRIPTION:All meetings are virtual every Friday from\n12:00-1:00 PM \n\nTo join our virtual meeting please email Michele DuBois for a Zoom link. 
URL:https://ctsilc.org/event/ct-cross-disability-lifespan-alliance/2029-06-01/
LOCATION:Virtual Via Zoom
CATEGORIES:Cross Disability Lifespan Alliance Policy/Legislative meetings
ATTACH;FMTTYPE=image/png:https://ctsilc.org/wp-content/uploads/2026/02/ccdla-512-e1770845852884.png
END:VEVENT
BEGIN:VEVENT
DTSTART;TZID=UTC:20290608T120000
DTEND;TZID=UTC:20290608T130000
DTSTAMP:20260425T122722
CREATED:20260211T205749Z
LAST-MODIFIED:20260211T211922Z
UID:10001428-1875614400-1875618000@ctsilc.org
SUMMARY:CT Cross Disability Lifespan Alliance
DESCRIPTION:All meetings are virtual every Friday from\n12:00-1:00 PM \n\nTo join our virtual meeting please email Michele DuBois for a Zoom link. 
URL:https://ctsilc.org/event/ct-cross-disability-lifespan-alliance/2029-06-08/
LOCATION:Virtual Via Zoom
CATEGORIES:Cross Disability Lifespan Alliance Policy/Legislative meetings
ATTACH;FMTTYPE=image/png:https://ctsilc.org/wp-content/uploads/2026/02/ccdla-512-e1770845852884.png
END:VEVENT
BEGIN:VEVENT
DTSTART;TZID=UTC:20290615T120000
DTEND;TZID=UTC:20290615T130000
DTSTAMP:20260425T122722
CREATED:20260211T205749Z
LAST-MODIFIED:20260211T211922Z
UID:10001429-1876219200-1876222800@ctsilc.org
SUMMARY:CT Cross Disability Lifespan Alliance
DESCRIPTION:All meetings are virtual every Friday from\n12:00-1:00 PM \n\nTo join our virtual meeting please email Michele DuBois for a Zoom link. 
URL:https://ctsilc.org/event/ct-cross-disability-lifespan-alliance/2029-06-15/
LOCATION:Virtual Via Zoom
CATEGORIES:Cross Disability Lifespan Alliance Policy/Legislative meetings
ATTACH;FMTTYPE=image/png:https://ctsilc.org/wp-content/uploads/2026/02/ccdla-512-e1770845852884.png
END:VEVENT
BEGIN:VEVENT
DTSTART;TZID=UTC:20290622T120000
DTEND;TZID=UTC:20290622T130000
DTSTAMP:20260425T122722
CREATED:20260211T205749Z
LAST-MODIFIED:20260211T211922Z
UID:10001430-1876824000-1876827600@ctsilc.org
SUMMARY:CT Cross Disability Lifespan Alliance
DESCRIPTION:All meetings are virtual every Friday from\n12:00-1:00 PM \n\nTo join our virtual meeting please email Michele DuBois for a Zoom link. 
URL:https://ctsilc.org/event/ct-cross-disability-lifespan-alliance/2029-06-22/
LOCATION:Virtual Via Zoom
CATEGORIES:Cross Disability Lifespan Alliance Policy/Legislative meetings
ATTACH;FMTTYPE=image/png:https://ctsilc.org/wp-content/uploads/2026/02/ccdla-512-e1770845852884.png
END:VEVENT
BEGIN:VEVENT
DTSTART;TZID=UTC:20290629T120000
DTEND;TZID=UTC:20290629T130000
DTSTAMP:20260425T122722
CREATED:20260211T205749Z
LAST-MODIFIED:20260211T211922Z
UID:10001431-1877428800-1877432400@ctsilc.org
SUMMARY:CT Cross Disability Lifespan Alliance
DESCRIPTION:All meetings are virtual every Friday from\n12:00-1:00 PM \n\nTo join our virtual meeting please email Michele DuBois for a Zoom link. 
URL:https://ctsilc.org/event/ct-cross-disability-lifespan-alliance/2029-06-29/
LOCATION:Virtual Via Zoom
CATEGORIES:Cross Disability Lifespan Alliance Policy/Legislative meetings
ATTACH;FMTTYPE=image/png:https://ctsilc.org/wp-content/uploads/2026/02/ccdla-512-e1770845852884.png
END:VEVENT
BEGIN:VEVENT
DTSTART;TZID=UTC:20290706T120000
DTEND;TZID=UTC:20290706T130000
DTSTAMP:20260425T122722
CREATED:20260211T205749Z
LAST-MODIFIED:20260211T211922Z
UID:10001432-1878033600-1878037200@ctsilc.org
SUMMARY:CT Cross Disability Lifespan Alliance
DESCRIPTION:All meetings are virtual every Friday from\n12:00-1:00 PM \n\nTo join our virtual meeting please email Michele DuBois for a Zoom link. 
URL:https://ctsilc.org/event/ct-cross-disability-lifespan-alliance/2029-07-06/
LOCATION:Virtual Via Zoom
CATEGORIES:Cross Disability Lifespan Alliance Policy/Legislative meetings
ATTACH;FMTTYPE=image/png:https://ctsilc.org/wp-content/uploads/2026/02/ccdla-512-e1770845852884.png
END:VEVENT
BEGIN:VEVENT
DTSTART;TZID=UTC:20290713T120000
DTEND;TZID=UTC:20290713T130000
DTSTAMP:20260425T122722
CREATED:20260211T205749Z
LAST-MODIFIED:20260211T211922Z
UID:10001433-1878638400-1878642000@ctsilc.org
SUMMARY:CT Cross Disability Lifespan Alliance
DESCRIPTION:All meetings are virtual every Friday from\n12:00-1:00 PM \n\nTo join our virtual meeting please email Michele DuBois for a Zoom link. 
URL:https://ctsilc.org/event/ct-cross-disability-lifespan-alliance/2029-07-13/
LOCATION:Virtual Via Zoom
CATEGORIES:Cross Disability Lifespan Alliance Policy/Legislative meetings
ATTACH;FMTTYPE=image/png:https://ctsilc.org/wp-content/uploads/2026/02/ccdla-512-e1770845852884.png
END:VEVENT
BEGIN:VEVENT
DTSTART;TZID=UTC:20290720T120000
DTEND;TZID=UTC:20290720T130000
DTSTAMP:20260425T122722
CREATED:20260211T205749Z
LAST-MODIFIED:20260211T211922Z
UID:10001434-1879243200-1879246800@ctsilc.org
SUMMARY:CT Cross Disability Lifespan Alliance
DESCRIPTION:All meetings are virtual every Friday from\n12:00-1:00 PM \n\nTo join our virtual meeting please email Michele DuBois for a Zoom link. 
URL:https://ctsilc.org/event/ct-cross-disability-lifespan-alliance/2029-07-20/
LOCATION:Virtual Via Zoom
CATEGORIES:Cross Disability Lifespan Alliance Policy/Legislative meetings
ATTACH;FMTTYPE=image/png:https://ctsilc.org/wp-content/uploads/2026/02/ccdla-512-e1770845852884.png
END:VEVENT
END:VCALENDAR