BEGIN:VCALENDAR
VERSION:2.0
PRODID:-//CTSILC - ECPv6.15.20//NONSGML v1.0//EN
CALSCALE:GREGORIAN
METHOD:PUBLISH
X-WR-CALNAME:CTSILC
X-ORIGINAL-URL:https://ctsilc.org
X-WR-CALDESC:Events for CTSILC
REFRESH-INTERVAL;VALUE=DURATION:PT1H
X-Robots-Tag:noindex
X-PUBLISHED-TTL:PT1H
BEGIN:VTIMEZONE
TZID:UTC
BEGIN:STANDARD
TZOFFSETFROM:+0000
TZOFFSETTO:+0000
TZNAME:UTC
DTSTART:20290101T000000
END:STANDARD
END:VTIMEZONE
BEGIN:VEVENT
DTSTART;TZID=UTC:20300514T130000
DTEND;TZID=UTC:20300514T140000
DTSTAMP:20260423T231946
CREATED:20260211T183430Z
LAST-MODIFIED:20260211T214804Z
UID:10001243-1904994000-1904997600@ctsilc.org
SUMMARY:Data Tech Meeting
DESCRIPTION:All meetings are virtual on the 2nd Tuesday of each month\n1:00 – 2:00 PM \n\n\nTo join our virtual meeting please email Michele DuBois for a Zoom link. 
URL:https://ctsilc.org/event/data-tech-meeting/2030-05-14/
LOCATION:Virtual Via Zoom
CATEGORIES:Data Tech Committee
ATTACH;FMTTYPE=image/png:https://ctsilc.org/wp-content/uploads/2026/02/noun-data-8259289-FFFFFF.png
END:VEVENT
BEGIN:VEVENT
DTSTART;TZID=UTC:20300611T130000
DTEND;TZID=UTC:20300611T140000
DTSTAMP:20260423T231946
CREATED:20260211T183430Z
LAST-MODIFIED:20260211T214804Z
UID:10001244-1907413200-1907416800@ctsilc.org
SUMMARY:Data Tech Meeting
DESCRIPTION:All meetings are virtual on the 2nd Tuesday of each month\n1:00 – 2:00 PM \n\n\nTo join our virtual meeting please email Michele DuBois for a Zoom link. 
URL:https://ctsilc.org/event/data-tech-meeting/2030-06-11/
LOCATION:Virtual Via Zoom
CATEGORIES:Data Tech Committee
ATTACH;FMTTYPE=image/png:https://ctsilc.org/wp-content/uploads/2026/02/noun-data-8259289-FFFFFF.png
END:VEVENT
BEGIN:VEVENT
DTSTART;TZID=UTC:20300709T130000
DTEND;TZID=UTC:20300709T140000
DTSTAMP:20260423T231946
CREATED:20260211T183430Z
LAST-MODIFIED:20260211T214804Z
UID:10001245-1909832400-1909836000@ctsilc.org
SUMMARY:Data Tech Meeting
DESCRIPTION:All meetings are virtual on the 2nd Tuesday of each month\n1:00 – 2:00 PM \n\n\nTo join our virtual meeting please email Michele DuBois for a Zoom link. 
URL:https://ctsilc.org/event/data-tech-meeting/2030-07-09/
LOCATION:Virtual Via Zoom
CATEGORIES:Data Tech Committee
ATTACH;FMTTYPE=image/png:https://ctsilc.org/wp-content/uploads/2026/02/noun-data-8259289-FFFFFF.png
END:VEVENT
BEGIN:VEVENT
DTSTART;TZID=UTC:20300813T130000
DTEND;TZID=UTC:20300813T140000
DTSTAMP:20260423T231946
CREATED:20260211T183430Z
LAST-MODIFIED:20260211T214804Z
UID:10001246-1912856400-1912860000@ctsilc.org
SUMMARY:Data Tech Meeting
DESCRIPTION:All meetings are virtual on the 2nd Tuesday of each month\n1:00 – 2:00 PM \n\n\nTo join our virtual meeting please email Michele DuBois for a Zoom link. 
URL:https://ctsilc.org/event/data-tech-meeting/2030-08-13/
LOCATION:Virtual Via Zoom
CATEGORIES:Data Tech Committee
ATTACH;FMTTYPE=image/png:https://ctsilc.org/wp-content/uploads/2026/02/noun-data-8259289-FFFFFF.png
END:VEVENT
BEGIN:VEVENT
DTSTART;TZID=UTC:20300910T130000
DTEND;TZID=UTC:20300910T140000
DTSTAMP:20260423T231946
CREATED:20260211T183430Z
LAST-MODIFIED:20260211T214804Z
UID:10001247-1915275600-1915279200@ctsilc.org
SUMMARY:Data Tech Meeting
DESCRIPTION:All meetings are virtual on the 2nd Tuesday of each month\n1:00 – 2:00 PM \n\n\nTo join our virtual meeting please email Michele DuBois for a Zoom link. 
URL:https://ctsilc.org/event/data-tech-meeting/2030-09-10/
LOCATION:Virtual Via Zoom
CATEGORIES:Data Tech Committee
ATTACH;FMTTYPE=image/png:https://ctsilc.org/wp-content/uploads/2026/02/noun-data-8259289-FFFFFF.png
END:VEVENT
BEGIN:VEVENT
DTSTART;TZID=UTC:20301008T130000
DTEND;TZID=UTC:20301008T140000
DTSTAMP:20260423T231946
CREATED:20260211T183430Z
LAST-MODIFIED:20260211T214804Z
UID:10001248-1917694800-1917698400@ctsilc.org
SUMMARY:Data Tech Meeting
DESCRIPTION:All meetings are virtual on the 2nd Tuesday of each month\n1:00 – 2:00 PM \n\n\nTo join our virtual meeting please email Michele DuBois for a Zoom link. 
URL:https://ctsilc.org/event/data-tech-meeting/2030-10-08/
LOCATION:Virtual Via Zoom
CATEGORIES:Data Tech Committee
ATTACH;FMTTYPE=image/png:https://ctsilc.org/wp-content/uploads/2026/02/noun-data-8259289-FFFFFF.png
END:VEVENT
BEGIN:VEVENT
DTSTART;TZID=UTC:20301112T130000
DTEND;TZID=UTC:20301112T140000
DTSTAMP:20260423T231946
CREATED:20260211T183430Z
LAST-MODIFIED:20260211T214804Z
UID:10001249-1920718800-1920722400@ctsilc.org
SUMMARY:Data Tech Meeting
DESCRIPTION:All meetings are virtual on the 2nd Tuesday of each month\n1:00 – 2:00 PM \n\n\nTo join our virtual meeting please email Michele DuBois for a Zoom link. 
URL:https://ctsilc.org/event/data-tech-meeting/2030-11-12/
LOCATION:Virtual Via Zoom
CATEGORIES:Data Tech Committee
ATTACH;FMTTYPE=image/png:https://ctsilc.org/wp-content/uploads/2026/02/noun-data-8259289-FFFFFF.png
END:VEVENT
BEGIN:VEVENT
DTSTART;TZID=UTC:20301210T130000
DTEND;TZID=UTC:20301210T140000
DTSTAMP:20260423T231946
CREATED:20260211T183430Z
LAST-MODIFIED:20260211T214804Z
UID:10001250-1923138000-1923141600@ctsilc.org
SUMMARY:Data Tech Meeting
DESCRIPTION:All meetings are virtual on the 2nd Tuesday of each month\n1:00 – 2:00 PM \n\n\nTo join our virtual meeting please email Michele DuBois for a Zoom link. 
URL:https://ctsilc.org/event/data-tech-meeting/2030-12-10/
LOCATION:Virtual Via Zoom
CATEGORIES:Data Tech Committee
ATTACH;FMTTYPE=image/png:https://ctsilc.org/wp-content/uploads/2026/02/noun-data-8259289-FFFFFF.png
END:VEVENT
BEGIN:VEVENT
DTSTART;TZID=UTC:20310114T130000
DTEND;TZID=UTC:20310114T140000
DTSTAMP:20260423T231946
CREATED:20260211T183430Z
LAST-MODIFIED:20260211T214804Z
UID:10001251-1926162000-1926165600@ctsilc.org
SUMMARY:Data Tech Meeting
DESCRIPTION:All meetings are virtual on the 2nd Tuesday of each month\n1:00 – 2:00 PM \n\n\nTo join our virtual meeting please email Michele DuBois for a Zoom link. 
URL:https://ctsilc.org/event/data-tech-meeting/2031-01-14/
LOCATION:Virtual Via Zoom
CATEGORIES:Data Tech Committee
ATTACH;FMTTYPE=image/png:https://ctsilc.org/wp-content/uploads/2026/02/noun-data-8259289-FFFFFF.png
END:VEVENT
BEGIN:VEVENT
DTSTART;TZID=UTC:20310211T130000
DTEND;TZID=UTC:20310211T140000
DTSTAMP:20260423T231946
CREATED:20260211T183430Z
LAST-MODIFIED:20260211T214804Z
UID:10001252-1928581200-1928584800@ctsilc.org
SUMMARY:Data Tech Meeting
DESCRIPTION:All meetings are virtual on the 2nd Tuesday of each month\n1:00 – 2:00 PM \n\n\nTo join our virtual meeting please email Michele DuBois for a Zoom link. 
URL:https://ctsilc.org/event/data-tech-meeting/2031-02-11/
LOCATION:Virtual Via Zoom
CATEGORIES:Data Tech Committee
ATTACH;FMTTYPE=image/png:https://ctsilc.org/wp-content/uploads/2026/02/noun-data-8259289-FFFFFF.png
END:VEVENT
END:VCALENDAR