BEGIN:VCALENDAR
VERSION:2.0
PRODID:-//CTSILC - ECPv6.15.20//NONSGML v1.0//EN
CALSCALE:GREGORIAN
METHOD:PUBLISH
X-WR-CALNAME:CTSILC
X-ORIGINAL-URL:https://ctsilc.org
X-WR-CALDESC:Events for CTSILC
REFRESH-INTERVAL;VALUE=DURATION:PT1H
X-Robots-Tag:noindex
X-PUBLISHED-TTL:PT1H
BEGIN:VTIMEZONE
TZID:UTC
BEGIN:STANDARD
TZOFFSETFROM:+0000
TZOFFSETTO:+0000
TZNAME:UTC
DTSTART:20250101T000000
END:STANDARD
END:VTIMEZONE
BEGIN:VEVENT
DTSTART;TZID=UTC:20260319T100000
DTEND;TZID=UTC:20260319T110000
DTSTAMP:20260423T220922
CREATED:20250307T183807Z
LAST-MODIFIED:20260211T212154Z
UID:10001048-1773914400-1773918000@ctsilc.org
SUMMARY:Emergency Preparedness Committee
DESCRIPTION:To join our virtual meeting please email Michele DuBois for a Zoom link. 
URL:https://ctsilc.org/event/emergency-preparedness-committee/2026-03-19/
LOCATION:Virtual Via Zoom
CATEGORIES:Emergency Preparedness Committee
ATTACH;FMTTYPE=image/png:https://ctsilc.org/wp-content/uploads/2025/03/eprep-512-e1770845838262.png
END:VEVENT
END:VCALENDAR