BEGIN:VCALENDAR
VERSION:2.0
PRODID:-//CTSILC - ECPv6.15.20//NONSGML v1.0//EN
CALSCALE:GREGORIAN
METHOD:PUBLISH
X-WR-CALNAME:CTSILC
X-ORIGINAL-URL:https://ctsilc.org
X-WR-CALDESC:Events for CTSILC
REFRESH-INTERVAL;VALUE=DURATION:PT1H
X-Robots-Tag:noindex
X-PUBLISHED-TTL:PT1H
BEGIN:VTIMEZONE
TZID:UTC
BEGIN:STANDARD
TZOFFSETFROM:+0000
TZOFFSETTO:+0000
TZNAME:UTC
DTSTART:20260101T000000
END:STANDARD
END:VTIMEZONE
BEGIN:VEVENT
DTSTART;TZID=UTC:20270924T120000
DTEND;TZID=UTC:20270924T130000
DTSTAMP:20260425T152422
CREATED:20260211T205749Z
LAST-MODIFIED:20260211T211922Z
UID:10001339-1821787200-1821790800@ctsilc.org
SUMMARY:CT Cross Disability Lifespan Alliance
DESCRIPTION:All meetings are virtual every Friday from\n12:00-1:00 PM \n\nTo join our virtual meeting please email Michele DuBois for a Zoom link. 
URL:https://ctsilc.org/event/ct-cross-disability-lifespan-alliance/2027-09-24/
LOCATION:Virtual Via Zoom
CATEGORIES:Cross Disability Lifespan Alliance Policy/Legislative meetings
ATTACH;FMTTYPE=image/png:https://ctsilc.org/wp-content/uploads/2026/02/ccdla-512-e1770845852884.png
END:VEVENT
BEGIN:VEVENT
DTSTART;TZID=UTC:20271001T120000
DTEND;TZID=UTC:20271001T130000
DTSTAMP:20260425T152422
CREATED:20260211T205749Z
LAST-MODIFIED:20260211T211922Z
UID:10001340-1822392000-1822395600@ctsilc.org
SUMMARY:CT Cross Disability Lifespan Alliance
DESCRIPTION:All meetings are virtual every Friday from\n12:00-1:00 PM \n\nTo join our virtual meeting please email Michele DuBois for a Zoom link. 
URL:https://ctsilc.org/event/ct-cross-disability-lifespan-alliance/2027-10-01/
LOCATION:Virtual Via Zoom
CATEGORIES:Cross Disability Lifespan Alliance Policy/Legislative meetings
ATTACH;FMTTYPE=image/png:https://ctsilc.org/wp-content/uploads/2026/02/ccdla-512-e1770845852884.png
END:VEVENT
BEGIN:VEVENT
DTSTART;TZID=UTC:20271008T120000
DTEND;TZID=UTC:20271008T130000
DTSTAMP:20260425T152422
CREATED:20260211T205749Z
LAST-MODIFIED:20260211T211922Z
UID:10001341-1822996800-1823000400@ctsilc.org
SUMMARY:CT Cross Disability Lifespan Alliance
DESCRIPTION:All meetings are virtual every Friday from\n12:00-1:00 PM \n\nTo join our virtual meeting please email Michele DuBois for a Zoom link. 
URL:https://ctsilc.org/event/ct-cross-disability-lifespan-alliance/2027-10-08/
LOCATION:Virtual Via Zoom
CATEGORIES:Cross Disability Lifespan Alliance Policy/Legislative meetings
ATTACH;FMTTYPE=image/png:https://ctsilc.org/wp-content/uploads/2026/02/ccdla-512-e1770845852884.png
END:VEVENT
BEGIN:VEVENT
DTSTART;TZID=UTC:20271012T130000
DTEND;TZID=UTC:20271012T140000
DTSTAMP:20260425T152422
CREATED:20260211T183430Z
LAST-MODIFIED:20260211T214804Z
UID:10001212-1823346000-1823349600@ctsilc.org
SUMMARY:Data Tech Meeting
DESCRIPTION:All meetings are virtual on the 2nd Tuesday of each month\n1:00 – 2:00 PM \n\n\nTo join our virtual meeting please email Michele DuBois for a Zoom link. 
URL:https://ctsilc.org/event/data-tech-meeting/2027-10-12/
LOCATION:Virtual Via Zoom
CATEGORIES:Data Tech Committee
ATTACH;FMTTYPE=image/png:https://ctsilc.org/wp-content/uploads/2026/02/noun-data-8259289-FFFFFF.png
END:VEVENT
BEGIN:VEVENT
DTSTART;TZID=UTC:20271013T130000
DTEND;TZID=UTC:20271013T140000
DTSTAMP:20260425T152422
CREATED:20250307T185555Z
LAST-MODIFIED:20260211T214734Z
UID:10001007-1823432400-1823436000@ctsilc.org
SUMMARY:State Plan for Independent Living (SPIL) Committee
DESCRIPTION:To join our virtual meeting please email Michele DuBois for a Zoom link.
URL:https://ctsilc.org/event/state-plan-for-independent-living-spil-committee-3-2-2-2/2027-10-13/
LOCATION:Virtual Via Zoom
CATEGORIES:State Plan for Independent Living (SPIL) Committee
ATTACH;FMTTYPE=image/png:https://ctsilc.org/wp-content/uploads/2025/03/plan-spil.png
END:VEVENT
BEGIN:VEVENT
DTSTART;TZID=UTC:20271015T120000
DTEND;TZID=UTC:20271015T130000
DTSTAMP:20260425T152422
CREATED:20260211T205749Z
LAST-MODIFIED:20260211T211922Z
UID:10001342-1823601600-1823605200@ctsilc.org
SUMMARY:CT Cross Disability Lifespan Alliance
DESCRIPTION:All meetings are virtual every Friday from\n12:00-1:00 PM \n\nTo join our virtual meeting please email Michele DuBois for a Zoom link. 
URL:https://ctsilc.org/event/ct-cross-disability-lifespan-alliance/2027-10-15/
LOCATION:Virtual Via Zoom
CATEGORIES:Cross Disability Lifespan Alliance Policy/Legislative meetings
ATTACH;FMTTYPE=image/png:https://ctsilc.org/wp-content/uploads/2026/02/ccdla-512-e1770845852884.png
END:VEVENT
BEGIN:VEVENT
DTSTART;TZID=UTC:20271022T120000
DTEND;TZID=UTC:20271022T130000
DTSTAMP:20260425T152422
CREATED:20260211T205749Z
LAST-MODIFIED:20260211T211922Z
UID:10001343-1824206400-1824210000@ctsilc.org
SUMMARY:CT Cross Disability Lifespan Alliance
DESCRIPTION:All meetings are virtual every Friday from\n12:00-1:00 PM \n\nTo join our virtual meeting please email Michele DuBois for a Zoom link. 
URL:https://ctsilc.org/event/ct-cross-disability-lifespan-alliance/2027-10-22/
LOCATION:Virtual Via Zoom
CATEGORIES:Cross Disability Lifespan Alliance Policy/Legislative meetings
ATTACH;FMTTYPE=image/png:https://ctsilc.org/wp-content/uploads/2026/02/ccdla-512-e1770845852884.png
END:VEVENT
BEGIN:VEVENT
DTSTART;TZID=UTC:20271029T120000
DTEND;TZID=UTC:20271029T130000
DTSTAMP:20260425T152422
CREATED:20260211T205749Z
LAST-MODIFIED:20260211T211922Z
UID:10001344-1824811200-1824814800@ctsilc.org
SUMMARY:CT Cross Disability Lifespan Alliance
DESCRIPTION:All meetings are virtual every Friday from\n12:00-1:00 PM \n\nTo join our virtual meeting please email Michele DuBois for a Zoom link. 
URL:https://ctsilc.org/event/ct-cross-disability-lifespan-alliance/2027-10-29/
LOCATION:Virtual Via Zoom
CATEGORIES:Cross Disability Lifespan Alliance Policy/Legislative meetings
ATTACH;FMTTYPE=image/png:https://ctsilc.org/wp-content/uploads/2026/02/ccdla-512-e1770845852884.png
END:VEVENT
BEGIN:VEVENT
DTSTART;TZID=UTC:20271105T120000
DTEND;TZID=UTC:20271105T130000
DTSTAMP:20260425T152422
CREATED:20260211T205749Z
LAST-MODIFIED:20260211T211922Z
UID:10001345-1825416000-1825419600@ctsilc.org
SUMMARY:CT Cross Disability Lifespan Alliance
DESCRIPTION:All meetings are virtual every Friday from\n12:00-1:00 PM \n\nTo join our virtual meeting please email Michele DuBois for a Zoom link. 
URL:https://ctsilc.org/event/ct-cross-disability-lifespan-alliance/2027-11-05/
LOCATION:Virtual Via Zoom
CATEGORIES:Cross Disability Lifespan Alliance Policy/Legislative meetings
ATTACH;FMTTYPE=image/png:https://ctsilc.org/wp-content/uploads/2026/02/ccdla-512-e1770845852884.png
END:VEVENT
BEGIN:VEVENT
DTSTART;TZID=UTC:20271109T130000
DTEND;TZID=UTC:20271109T140000
DTSTAMP:20260425T152422
CREATED:20260211T183430Z
LAST-MODIFIED:20260211T214804Z
UID:10001213-1825765200-1825768800@ctsilc.org
SUMMARY:Data Tech Meeting
DESCRIPTION:All meetings are virtual on the 2nd Tuesday of each month\n1:00 – 2:00 PM \n\n\nTo join our virtual meeting please email Michele DuBois for a Zoom link. 
URL:https://ctsilc.org/event/data-tech-meeting/2027-11-09/
LOCATION:Virtual Via Zoom
CATEGORIES:Data Tech Committee
ATTACH;FMTTYPE=image/png:https://ctsilc.org/wp-content/uploads/2026/02/noun-data-8259289-FFFFFF.png
END:VEVENT
BEGIN:VEVENT
DTSTART;TZID=UTC:20271110T130000
DTEND;TZID=UTC:20271110T140000
DTSTAMP:20260425T152422
CREATED:20250307T185555Z
LAST-MODIFIED:20260211T214734Z
UID:10001008-1825851600-1825855200@ctsilc.org
SUMMARY:State Plan for Independent Living (SPIL) Committee
DESCRIPTION:To join our virtual meeting please email Michele DuBois for a Zoom link.
URL:https://ctsilc.org/event/state-plan-for-independent-living-spil-committee-3-2-2-2/2027-11-10/
LOCATION:Virtual Via Zoom
CATEGORIES:State Plan for Independent Living (SPIL) Committee
ATTACH;FMTTYPE=image/png:https://ctsilc.org/wp-content/uploads/2025/03/plan-spil.png
END:VEVENT
BEGIN:VEVENT
DTSTART;TZID=UTC:20271112T120000
DTEND;TZID=UTC:20271112T130000
DTSTAMP:20260425T152422
CREATED:20260211T205749Z
LAST-MODIFIED:20260211T211922Z
UID:10001346-1826020800-1826024400@ctsilc.org
SUMMARY:CT Cross Disability Lifespan Alliance
DESCRIPTION:All meetings are virtual every Friday from\n12:00-1:00 PM \n\nTo join our virtual meeting please email Michele DuBois for a Zoom link. 
URL:https://ctsilc.org/event/ct-cross-disability-lifespan-alliance/2027-11-12/
LOCATION:Virtual Via Zoom
CATEGORIES:Cross Disability Lifespan Alliance Policy/Legislative meetings
ATTACH;FMTTYPE=image/png:https://ctsilc.org/wp-content/uploads/2026/02/ccdla-512-e1770845852884.png
END:VEVENT
BEGIN:VEVENT
DTSTART;TZID=UTC:20271119T120000
DTEND;TZID=UTC:20271119T130000
DTSTAMP:20260425T152422
CREATED:20260211T205749Z
LAST-MODIFIED:20260211T211922Z
UID:10001347-1826625600-1826629200@ctsilc.org
SUMMARY:CT Cross Disability Lifespan Alliance
DESCRIPTION:All meetings are virtual every Friday from\n12:00-1:00 PM \n\nTo join our virtual meeting please email Michele DuBois for a Zoom link. 
URL:https://ctsilc.org/event/ct-cross-disability-lifespan-alliance/2027-11-19/
LOCATION:Virtual Via Zoom
CATEGORIES:Cross Disability Lifespan Alliance Policy/Legislative meetings
ATTACH;FMTTYPE=image/png:https://ctsilc.org/wp-content/uploads/2026/02/ccdla-512-e1770845852884.png
END:VEVENT
BEGIN:VEVENT
DTSTART;TZID=UTC:20271126T120000
DTEND;TZID=UTC:20271126T130000
DTSTAMP:20260425T152422
CREATED:20260211T205749Z
LAST-MODIFIED:20260211T211922Z
UID:10001348-1827230400-1827234000@ctsilc.org
SUMMARY:CT Cross Disability Lifespan Alliance
DESCRIPTION:All meetings are virtual every Friday from\n12:00-1:00 PM \n\nTo join our virtual meeting please email Michele DuBois for a Zoom link. 
URL:https://ctsilc.org/event/ct-cross-disability-lifespan-alliance/2027-11-26/
LOCATION:Virtual Via Zoom
CATEGORIES:Cross Disability Lifespan Alliance Policy/Legislative meetings
ATTACH;FMTTYPE=image/png:https://ctsilc.org/wp-content/uploads/2026/02/ccdla-512-e1770845852884.png
END:VEVENT
BEGIN:VEVENT
DTSTART;TZID=UTC:20271203T120000
DTEND;TZID=UTC:20271203T130000
DTSTAMP:20260425T152422
CREATED:20260211T205749Z
LAST-MODIFIED:20260211T211922Z
UID:10001349-1827835200-1827838800@ctsilc.org
SUMMARY:CT Cross Disability Lifespan Alliance
DESCRIPTION:All meetings are virtual every Friday from\n12:00-1:00 PM \n\nTo join our virtual meeting please email Michele DuBois for a Zoom link. 
URL:https://ctsilc.org/event/ct-cross-disability-lifespan-alliance/2027-12-03/
LOCATION:Virtual Via Zoom
CATEGORIES:Cross Disability Lifespan Alliance Policy/Legislative meetings
ATTACH;FMTTYPE=image/png:https://ctsilc.org/wp-content/uploads/2026/02/ccdla-512-e1770845852884.png
END:VEVENT
BEGIN:VEVENT
DTSTART;TZID=UTC:20271208T130000
DTEND;TZID=UTC:20271208T140000
DTSTAMP:20260425T152422
CREATED:20250307T185555Z
LAST-MODIFIED:20260211T214734Z
UID:10001009-1828270800-1828274400@ctsilc.org
SUMMARY:State Plan for Independent Living (SPIL) Committee
DESCRIPTION:To join our virtual meeting please email Michele DuBois for a Zoom link.
URL:https://ctsilc.org/event/state-plan-for-independent-living-spil-committee-3-2-2-2/2027-12-08/
LOCATION:Virtual Via Zoom
CATEGORIES:State Plan for Independent Living (SPIL) Committee
ATTACH;FMTTYPE=image/png:https://ctsilc.org/wp-content/uploads/2025/03/plan-spil.png
END:VEVENT
BEGIN:VEVENT
DTSTART;TZID=UTC:20271210T120000
DTEND;TZID=UTC:20271210T130000
DTSTAMP:20260425T152422
CREATED:20260211T205749Z
LAST-MODIFIED:20260211T211922Z
UID:10001350-1828440000-1828443600@ctsilc.org
SUMMARY:CT Cross Disability Lifespan Alliance
DESCRIPTION:All meetings are virtual every Friday from\n12:00-1:00 PM \n\nTo join our virtual meeting please email Michele DuBois for a Zoom link. 
URL:https://ctsilc.org/event/ct-cross-disability-lifespan-alliance/2027-12-10/
LOCATION:Virtual Via Zoom
CATEGORIES:Cross Disability Lifespan Alliance Policy/Legislative meetings
ATTACH;FMTTYPE=image/png:https://ctsilc.org/wp-content/uploads/2026/02/ccdla-512-e1770845852884.png
END:VEVENT
BEGIN:VEVENT
DTSTART;TZID=UTC:20271214T130000
DTEND;TZID=UTC:20271214T140000
DTSTAMP:20260425T152422
CREATED:20260211T183430Z
LAST-MODIFIED:20260211T214804Z
UID:10001214-1828789200-1828792800@ctsilc.org
SUMMARY:Data Tech Meeting
DESCRIPTION:All meetings are virtual on the 2nd Tuesday of each month\n1:00 – 2:00 PM \n\n\nTo join our virtual meeting please email Michele DuBois for a Zoom link. 
URL:https://ctsilc.org/event/data-tech-meeting/2027-12-14/
LOCATION:Virtual Via Zoom
CATEGORIES:Data Tech Committee
ATTACH;FMTTYPE=image/png:https://ctsilc.org/wp-content/uploads/2026/02/noun-data-8259289-FFFFFF.png
END:VEVENT
BEGIN:VEVENT
DTSTART;TZID=UTC:20271217T120000
DTEND;TZID=UTC:20271217T130000
DTSTAMP:20260425T152422
CREATED:20260211T205749Z
LAST-MODIFIED:20260211T211922Z
UID:10001351-1829044800-1829048400@ctsilc.org
SUMMARY:CT Cross Disability Lifespan Alliance
DESCRIPTION:All meetings are virtual every Friday from\n12:00-1:00 PM \n\nTo join our virtual meeting please email Michele DuBois for a Zoom link. 
URL:https://ctsilc.org/event/ct-cross-disability-lifespan-alliance/2027-12-17/
LOCATION:Virtual Via Zoom
CATEGORIES:Cross Disability Lifespan Alliance Policy/Legislative meetings
ATTACH;FMTTYPE=image/png:https://ctsilc.org/wp-content/uploads/2026/02/ccdla-512-e1770845852884.png
END:VEVENT
BEGIN:VEVENT
DTSTART;TZID=UTC:20271224T120000
DTEND;TZID=UTC:20271224T130000
DTSTAMP:20260425T152422
CREATED:20260211T205749Z
LAST-MODIFIED:20260211T211922Z
UID:10001352-1829649600-1829653200@ctsilc.org
SUMMARY:CT Cross Disability Lifespan Alliance
DESCRIPTION:All meetings are virtual every Friday from\n12:00-1:00 PM \n\nTo join our virtual meeting please email Michele DuBois for a Zoom link. 
URL:https://ctsilc.org/event/ct-cross-disability-lifespan-alliance/2027-12-24/
LOCATION:Virtual Via Zoom
CATEGORIES:Cross Disability Lifespan Alliance Policy/Legislative meetings
ATTACH;FMTTYPE=image/png:https://ctsilc.org/wp-content/uploads/2026/02/ccdla-512-e1770845852884.png
END:VEVENT
BEGIN:VEVENT
DTSTART;TZID=UTC:20271231T120000
DTEND;TZID=UTC:20271231T130000
DTSTAMP:20260425T152422
CREATED:20260211T205749Z
LAST-MODIFIED:20260211T211922Z
UID:10001353-1830254400-1830258000@ctsilc.org
SUMMARY:CT Cross Disability Lifespan Alliance
DESCRIPTION:All meetings are virtual every Friday from\n12:00-1:00 PM \n\nTo join our virtual meeting please email Michele DuBois for a Zoom link. 
URL:https://ctsilc.org/event/ct-cross-disability-lifespan-alliance/2027-12-31/
LOCATION:Virtual Via Zoom
CATEGORIES:Cross Disability Lifespan Alliance Policy/Legislative meetings
ATTACH;FMTTYPE=image/png:https://ctsilc.org/wp-content/uploads/2026/02/ccdla-512-e1770845852884.png
END:VEVENT
BEGIN:VEVENT
DTSTART;TZID=UTC:20280107T120000
DTEND;TZID=UTC:20280107T130000
DTSTAMP:20260425T152422
CREATED:20260211T205749Z
LAST-MODIFIED:20260211T211922Z
UID:10001354-1830859200-1830862800@ctsilc.org
SUMMARY:CT Cross Disability Lifespan Alliance
DESCRIPTION:All meetings are virtual every Friday from\n12:00-1:00 PM \n\nTo join our virtual meeting please email Michele DuBois for a Zoom link. 
URL:https://ctsilc.org/event/ct-cross-disability-lifespan-alliance/2028-01-07/
LOCATION:Virtual Via Zoom
CATEGORIES:Cross Disability Lifespan Alliance Policy/Legislative meetings
ATTACH;FMTTYPE=image/png:https://ctsilc.org/wp-content/uploads/2026/02/ccdla-512-e1770845852884.png
END:VEVENT
BEGIN:VEVENT
DTSTART;TZID=UTC:20280111T130000
DTEND;TZID=UTC:20280111T140000
DTSTAMP:20260425T152422
CREATED:20260211T183430Z
LAST-MODIFIED:20260211T214804Z
UID:10001215-1831208400-1831212000@ctsilc.org
SUMMARY:Data Tech Meeting
DESCRIPTION:All meetings are virtual on the 2nd Tuesday of each month\n1:00 – 2:00 PM \n\n\nTo join our virtual meeting please email Michele DuBois for a Zoom link. 
URL:https://ctsilc.org/event/data-tech-meeting/2028-01-11/
LOCATION:Virtual Via Zoom
CATEGORIES:Data Tech Committee
ATTACH;FMTTYPE=image/png:https://ctsilc.org/wp-content/uploads/2026/02/noun-data-8259289-FFFFFF.png
END:VEVENT
BEGIN:VEVENT
DTSTART;TZID=UTC:20280112T130000
DTEND;TZID=UTC:20280112T140000
DTSTAMP:20260425T152422
CREATED:20250307T185555Z
LAST-MODIFIED:20260211T214734Z
UID:10001010-1831294800-1831298400@ctsilc.org
SUMMARY:State Plan for Independent Living (SPIL) Committee
DESCRIPTION:To join our virtual meeting please email Michele DuBois for a Zoom link.
URL:https://ctsilc.org/event/state-plan-for-independent-living-spil-committee-3-2-2-2/2028-01-12/
LOCATION:Virtual Via Zoom
CATEGORIES:State Plan for Independent Living (SPIL) Committee
ATTACH;FMTTYPE=image/png:https://ctsilc.org/wp-content/uploads/2025/03/plan-spil.png
END:VEVENT
BEGIN:VEVENT
DTSTART;TZID=UTC:20280114T120000
DTEND;TZID=UTC:20280114T130000
DTSTAMP:20260425T152422
CREATED:20260211T205749Z
LAST-MODIFIED:20260211T211922Z
UID:10001355-1831464000-1831467600@ctsilc.org
SUMMARY:CT Cross Disability Lifespan Alliance
DESCRIPTION:All meetings are virtual every Friday from\n12:00-1:00 PM \n\nTo join our virtual meeting please email Michele DuBois for a Zoom link. 
URL:https://ctsilc.org/event/ct-cross-disability-lifespan-alliance/2028-01-14/
LOCATION:Virtual Via Zoom
CATEGORIES:Cross Disability Lifespan Alliance Policy/Legislative meetings
ATTACH;FMTTYPE=image/png:https://ctsilc.org/wp-content/uploads/2026/02/ccdla-512-e1770845852884.png
END:VEVENT
BEGIN:VEVENT
DTSTART;TZID=UTC:20280121T120000
DTEND;TZID=UTC:20280121T130000
DTSTAMP:20260425T152422
CREATED:20260211T205749Z
LAST-MODIFIED:20260211T211922Z
UID:10001356-1832068800-1832072400@ctsilc.org
SUMMARY:CT Cross Disability Lifespan Alliance
DESCRIPTION:All meetings are virtual every Friday from\n12:00-1:00 PM \n\nTo join our virtual meeting please email Michele DuBois for a Zoom link. 
URL:https://ctsilc.org/event/ct-cross-disability-lifespan-alliance/2028-01-21/
LOCATION:Virtual Via Zoom
CATEGORIES:Cross Disability Lifespan Alliance Policy/Legislative meetings
ATTACH;FMTTYPE=image/png:https://ctsilc.org/wp-content/uploads/2026/02/ccdla-512-e1770845852884.png
END:VEVENT
BEGIN:VEVENT
DTSTART;TZID=UTC:20280128T120000
DTEND;TZID=UTC:20280128T130000
DTSTAMP:20260425T152422
CREATED:20260211T205749Z
LAST-MODIFIED:20260211T211922Z
UID:10001357-1832673600-1832677200@ctsilc.org
SUMMARY:CT Cross Disability Lifespan Alliance
DESCRIPTION:All meetings are virtual every Friday from\n12:00-1:00 PM \n\nTo join our virtual meeting please email Michele DuBois for a Zoom link. 
URL:https://ctsilc.org/event/ct-cross-disability-lifespan-alliance/2028-01-28/
LOCATION:Virtual Via Zoom
CATEGORIES:Cross Disability Lifespan Alliance Policy/Legislative meetings
ATTACH;FMTTYPE=image/png:https://ctsilc.org/wp-content/uploads/2026/02/ccdla-512-e1770845852884.png
END:VEVENT
BEGIN:VEVENT
DTSTART;TZID=UTC:20280204T120000
DTEND;TZID=UTC:20280204T130000
DTSTAMP:20260425T152422
CREATED:20260211T205749Z
LAST-MODIFIED:20260211T211922Z
UID:10001358-1833278400-1833282000@ctsilc.org
SUMMARY:CT Cross Disability Lifespan Alliance
DESCRIPTION:All meetings are virtual every Friday from\n12:00-1:00 PM \n\nTo join our virtual meeting please email Michele DuBois for a Zoom link. 
URL:https://ctsilc.org/event/ct-cross-disability-lifespan-alliance/2028-02-04/
LOCATION:Virtual Via Zoom
CATEGORIES:Cross Disability Lifespan Alliance Policy/Legislative meetings
ATTACH;FMTTYPE=image/png:https://ctsilc.org/wp-content/uploads/2026/02/ccdla-512-e1770845852884.png
END:VEVENT
BEGIN:VEVENT
DTSTART;TZID=UTC:20280208T130000
DTEND;TZID=UTC:20280208T140000
DTSTAMP:20260425T152422
CREATED:20260211T183430Z
LAST-MODIFIED:20260211T214804Z
UID:10001216-1833627600-1833631200@ctsilc.org
SUMMARY:Data Tech Meeting
DESCRIPTION:All meetings are virtual on the 2nd Tuesday of each month\n1:00 – 2:00 PM \n\n\nTo join our virtual meeting please email Michele DuBois for a Zoom link. 
URL:https://ctsilc.org/event/data-tech-meeting/2028-02-08/
LOCATION:Virtual Via Zoom
CATEGORIES:Data Tech Committee
ATTACH;FMTTYPE=image/png:https://ctsilc.org/wp-content/uploads/2026/02/noun-data-8259289-FFFFFF.png
END:VEVENT
BEGIN:VEVENT
DTSTART;TZID=UTC:20280209T130000
DTEND;TZID=UTC:20280209T140000
DTSTAMP:20260425T152422
CREATED:20250307T185555Z
LAST-MODIFIED:20260211T214734Z
UID:10001011-1833714000-1833717600@ctsilc.org
SUMMARY:State Plan for Independent Living (SPIL) Committee
DESCRIPTION:To join our virtual meeting please email Michele DuBois for a Zoom link.
URL:https://ctsilc.org/event/state-plan-for-independent-living-spil-committee-3-2-2-2/2028-02-09/
LOCATION:Virtual Via Zoom
CATEGORIES:State Plan for Independent Living (SPIL) Committee
ATTACH;FMTTYPE=image/png:https://ctsilc.org/wp-content/uploads/2025/03/plan-spil.png
END:VEVENT
END:VCALENDAR