BEGIN:VCALENDAR
VERSION:2.0
PRODID:-//CTSILC - ECPv6.15.20//NONSGML v1.0//EN
CALSCALE:GREGORIAN
METHOD:PUBLISH
X-WR-CALNAME:CTSILC
X-ORIGINAL-URL:https://ctsilc.org
X-WR-CALDESC:Events for CTSILC
REFRESH-INTERVAL;VALUE=DURATION:PT1H
X-Robots-Tag:noindex
X-PUBLISHED-TTL:PT1H
BEGIN:VTIMEZONE
TZID:UTC
BEGIN:STANDARD
TZOFFSETFROM:+0000
TZOFFSETTO:+0000
TZNAME:UTC
DTSTART:20250101T000000
END:STANDARD
END:VTIMEZONE
BEGIN:VEVENT
DTSTART;TZID=UTC:20260908T130000
DTEND;TZID=UTC:20260908T140000
DTSTAMP:20260423T234603
CREATED:20260211T183430Z
LAST-MODIFIED:20260211T214804Z
UID:10001199-1788872400-1788876000@ctsilc.org
SUMMARY:Data Tech Meeting
DESCRIPTION:All meetings are virtual on the 2nd Tuesday of each month\n1:00 – 2:00 PM \n\n\nTo join our virtual meeting please email Michele DuBois for a Zoom link. 
URL:https://ctsilc.org/event/data-tech-meeting/2026-09-08/
LOCATION:Virtual Via Zoom
CATEGORIES:Data Tech Committee
ATTACH;FMTTYPE=image/png:https://ctsilc.org/wp-content/uploads/2026/02/noun-data-8259289-FFFFFF.png
END:VEVENT
BEGIN:VEVENT
DTSTART;TZID=UTC:20260909T130000
DTEND;TZID=UTC:20260909T140000
DTSTAMP:20260423T234603
CREATED:20250307T185555Z
LAST-MODIFIED:20260211T214734Z
UID:10000994-1788958800-1788962400@ctsilc.org
SUMMARY:State Plan for Independent Living (SPIL) Committee
DESCRIPTION:To join our virtual meeting please email Michele DuBois for a Zoom link.
URL:https://ctsilc.org/event/state-plan-for-independent-living-spil-committee-3-2-2-2/2026-09-09/
LOCATION:Virtual Via Zoom
CATEGORIES:State Plan for Independent Living (SPIL) Committee
ATTACH;FMTTYPE=image/png:https://ctsilc.org/wp-content/uploads/2025/03/plan-spil.png
END:VEVENT
BEGIN:VEVENT
DTSTART;TZID=UTC:20260911T120000
DTEND;TZID=UTC:20260911T130000
DTSTAMP:20260423T234603
CREATED:20260211T205749Z
LAST-MODIFIED:20260211T211922Z
UID:10001285-1789128000-1789131600@ctsilc.org
SUMMARY:CT Cross Disability Lifespan Alliance
DESCRIPTION:All meetings are virtual every Friday from\n12:00-1:00 PM \n\nTo join our virtual meeting please email Michele DuBois for a Zoom link. 
URL:https://ctsilc.org/event/ct-cross-disability-lifespan-alliance/2026-09-11/
LOCATION:Virtual Via Zoom
CATEGORIES:Cross Disability Lifespan Alliance Policy/Legislative meetings
ATTACH;FMTTYPE=image/png:https://ctsilc.org/wp-content/uploads/2026/02/ccdla-512-e1770845852884.png
END:VEVENT
BEGIN:VEVENT
DTSTART;TZID=UTC:20260916T130000
DTEND;TZID=UTC:20260916T150000
DTSTAMP:20260423T234603
CREATED:20230905T164228Z
LAST-MODIFIED:20260211T213205Z
UID:10000039-1789563600-1789570800@ctsilc.org
SUMMARY:SILC Annual Board Meeting
DESCRIPTION:Please join us for our Annual Board Meeting \n1:00 pm – 3:00 pm \nAdditional details will be provided as we approach the event.
URL:https://ctsilc.org/event/silc-board-meeting-3/
CATEGORIES:SILC Annual Board Meeting
END:VEVENT
BEGIN:VEVENT
DTSTART;TZID=UTC:20260917T100000
DTEND;TZID=UTC:20260917T110000
DTSTAMP:20260423T234603
CREATED:20250307T183807Z
LAST-MODIFIED:20260211T212154Z
UID:10001054-1789639200-1789642800@ctsilc.org
SUMMARY:Emergency Preparedness Committee
DESCRIPTION:To join our virtual meeting please email Michele DuBois for a Zoom link. 
URL:https://ctsilc.org/event/emergency-preparedness-committee/2026-09-17/
LOCATION:Virtual Via Zoom
CATEGORIES:Emergency Preparedness Committee
ATTACH;FMTTYPE=image/png:https://ctsilc.org/wp-content/uploads/2025/03/eprep-512-e1770845838262.png
END:VEVENT
BEGIN:VEVENT
DTSTART;TZID=UTC:20260918T120000
DTEND;TZID=UTC:20260918T130000
DTSTAMP:20260423T234603
CREATED:20260211T205749Z
LAST-MODIFIED:20260211T211922Z
UID:10001286-1789732800-1789736400@ctsilc.org
SUMMARY:CT Cross Disability Lifespan Alliance
DESCRIPTION:All meetings are virtual every Friday from\n12:00-1:00 PM \n\nTo join our virtual meeting please email Michele DuBois for a Zoom link. 
URL:https://ctsilc.org/event/ct-cross-disability-lifespan-alliance/2026-09-18/
LOCATION:Virtual Via Zoom
CATEGORIES:Cross Disability Lifespan Alliance Policy/Legislative meetings
ATTACH;FMTTYPE=image/png:https://ctsilc.org/wp-content/uploads/2026/02/ccdla-512-e1770845852884.png
END:VEVENT
BEGIN:VEVENT
DTSTART;TZID=UTC:20260925T120000
DTEND;TZID=UTC:20260925T130000
DTSTAMP:20260423T234603
CREATED:20260211T205749Z
LAST-MODIFIED:20260211T211922Z
UID:10001287-1790337600-1790341200@ctsilc.org
SUMMARY:CT Cross Disability Lifespan Alliance
DESCRIPTION:All meetings are virtual every Friday from\n12:00-1:00 PM \n\nTo join our virtual meeting please email Michele DuBois for a Zoom link. 
URL:https://ctsilc.org/event/ct-cross-disability-lifespan-alliance/2026-09-25/
LOCATION:Virtual Via Zoom
CATEGORIES:Cross Disability Lifespan Alliance Policy/Legislative meetings
ATTACH;FMTTYPE=image/png:https://ctsilc.org/wp-content/uploads/2026/02/ccdla-512-e1770845852884.png
END:VEVENT
BEGIN:VEVENT
DTSTART;TZID=UTC:20261002T120000
DTEND;TZID=UTC:20261002T130000
DTSTAMP:20260423T234603
CREATED:20260211T205749Z
LAST-MODIFIED:20260211T211922Z
UID:10001288-1790942400-1790946000@ctsilc.org
SUMMARY:CT Cross Disability Lifespan Alliance
DESCRIPTION:All meetings are virtual every Friday from\n12:00-1:00 PM \n\nTo join our virtual meeting please email Michele DuBois for a Zoom link. 
URL:https://ctsilc.org/event/ct-cross-disability-lifespan-alliance/2026-10-02/
LOCATION:Virtual Via Zoom
CATEGORIES:Cross Disability Lifespan Alliance Policy/Legislative meetings
ATTACH;FMTTYPE=image/png:https://ctsilc.org/wp-content/uploads/2026/02/ccdla-512-e1770845852884.png
END:VEVENT
BEGIN:VEVENT
DTSTART;TZID=UTC:20261009T120000
DTEND;TZID=UTC:20261009T130000
DTSTAMP:20260423T234603
CREATED:20260211T205749Z
LAST-MODIFIED:20260211T211922Z
UID:10001289-1791547200-1791550800@ctsilc.org
SUMMARY:CT Cross Disability Lifespan Alliance
DESCRIPTION:All meetings are virtual every Friday from\n12:00-1:00 PM \n\nTo join our virtual meeting please email Michele DuBois for a Zoom link. 
URL:https://ctsilc.org/event/ct-cross-disability-lifespan-alliance/2026-10-09/
LOCATION:Virtual Via Zoom
CATEGORIES:Cross Disability Lifespan Alliance Policy/Legislative meetings
ATTACH;FMTTYPE=image/png:https://ctsilc.org/wp-content/uploads/2026/02/ccdla-512-e1770845852884.png
END:VEVENT
BEGIN:VEVENT
DTSTART;TZID=UTC:20261013T130000
DTEND;TZID=UTC:20261013T140000
DTSTAMP:20260423T234603
CREATED:20260211T183430Z
LAST-MODIFIED:20260211T214804Z
UID:10001200-1791896400-1791900000@ctsilc.org
SUMMARY:Data Tech Meeting
DESCRIPTION:All meetings are virtual on the 2nd Tuesday of each month\n1:00 – 2:00 PM \n\n\nTo join our virtual meeting please email Michele DuBois for a Zoom link. 
URL:https://ctsilc.org/event/data-tech-meeting/2026-10-13/
LOCATION:Virtual Via Zoom
CATEGORIES:Data Tech Committee
ATTACH;FMTTYPE=image/png:https://ctsilc.org/wp-content/uploads/2026/02/noun-data-8259289-FFFFFF.png
END:VEVENT
BEGIN:VEVENT
DTSTART;TZID=UTC:20261014T130000
DTEND;TZID=UTC:20261014T140000
DTSTAMP:20260423T234603
CREATED:20250307T185555Z
LAST-MODIFIED:20260211T214734Z
UID:10000995-1791982800-1791986400@ctsilc.org
SUMMARY:State Plan for Independent Living (SPIL) Committee
DESCRIPTION:To join our virtual meeting please email Michele DuBois for a Zoom link.
URL:https://ctsilc.org/event/state-plan-for-independent-living-spil-committee-3-2-2-2/2026-10-14/
LOCATION:Virtual Via Zoom
CATEGORIES:State Plan for Independent Living (SPIL) Committee
ATTACH;FMTTYPE=image/png:https://ctsilc.org/wp-content/uploads/2025/03/plan-spil.png
END:VEVENT
BEGIN:VEVENT
DTSTART;TZID=UTC:20261015T100000
DTEND;TZID=UTC:20261015T110000
DTSTAMP:20260423T234603
CREATED:20250307T183807Z
LAST-MODIFIED:20260211T212154Z
UID:10001055-1792058400-1792062000@ctsilc.org
SUMMARY:Emergency Preparedness Committee
DESCRIPTION:To join our virtual meeting please email Michele DuBois for a Zoom link. 
URL:https://ctsilc.org/event/emergency-preparedness-committee/2026-10-15/
LOCATION:Virtual Via Zoom
CATEGORIES:Emergency Preparedness Committee
ATTACH;FMTTYPE=image/png:https://ctsilc.org/wp-content/uploads/2025/03/eprep-512-e1770845838262.png
END:VEVENT
BEGIN:VEVENT
DTSTART;TZID=UTC:20261016T120000
DTEND;TZID=UTC:20261016T130000
DTSTAMP:20260423T234603
CREATED:20260211T205749Z
LAST-MODIFIED:20260211T211922Z
UID:10001290-1792152000-1792155600@ctsilc.org
SUMMARY:CT Cross Disability Lifespan Alliance
DESCRIPTION:All meetings are virtual every Friday from\n12:00-1:00 PM \n\nTo join our virtual meeting please email Michele DuBois for a Zoom link. 
URL:https://ctsilc.org/event/ct-cross-disability-lifespan-alliance/2026-10-16/
LOCATION:Virtual Via Zoom
CATEGORIES:Cross Disability Lifespan Alliance Policy/Legislative meetings
ATTACH;FMTTYPE=image/png:https://ctsilc.org/wp-content/uploads/2026/02/ccdla-512-e1770845852884.png
END:VEVENT
BEGIN:VEVENT
DTSTART;TZID=UTC:20261021T150000
DTEND;TZID=UTC:20261021T170000
DTSTAMP:20260423T234603
CREATED:20250124T181644Z
LAST-MODIFIED:20260211T212804Z
UID:10000832-1792594800-1792602000@ctsilc.org
SUMMARY:SILC Monthly Board Meeting
DESCRIPTION:To join our virtual meeting please email Michele DuBois for a Zoom link.
URL:https://ctsilc.org/event/silc-board-meeting-4-3/2026-10-21/
LOCATION:Virtual Via Zoom
CATEGORIES:SILC Monthly Board Meeting
ATTACH;FMTTYPE=image/png:https://ctsilc.org/wp-content/uploads/2025/01/SILC-Board-meeting-1-e1770845804535.png
END:VEVENT
BEGIN:VEVENT
DTSTART;TZID=UTC:20261023T120000
DTEND;TZID=UTC:20261023T130000
DTSTAMP:20260423T234603
CREATED:20260211T205749Z
LAST-MODIFIED:20260211T211922Z
UID:10001291-1792756800-1792760400@ctsilc.org
SUMMARY:CT Cross Disability Lifespan Alliance
DESCRIPTION:All meetings are virtual every Friday from\n12:00-1:00 PM \n\nTo join our virtual meeting please email Michele DuBois for a Zoom link. 
URL:https://ctsilc.org/event/ct-cross-disability-lifespan-alliance/2026-10-23/
LOCATION:Virtual Via Zoom
CATEGORIES:Cross Disability Lifespan Alliance Policy/Legislative meetings
ATTACH;FMTTYPE=image/png:https://ctsilc.org/wp-content/uploads/2026/02/ccdla-512-e1770845852884.png
END:VEVENT
BEGIN:VEVENT
DTSTART;TZID=UTC:20261030T120000
DTEND;TZID=UTC:20261030T130000
DTSTAMP:20260423T234603
CREATED:20260211T205749Z
LAST-MODIFIED:20260211T211922Z
UID:10001292-1793361600-1793365200@ctsilc.org
SUMMARY:CT Cross Disability Lifespan Alliance
DESCRIPTION:All meetings are virtual every Friday from\n12:00-1:00 PM \n\nTo join our virtual meeting please email Michele DuBois for a Zoom link. 
URL:https://ctsilc.org/event/ct-cross-disability-lifespan-alliance/2026-10-30/
LOCATION:Virtual Via Zoom
CATEGORIES:Cross Disability Lifespan Alliance Policy/Legislative meetings
ATTACH;FMTTYPE=image/png:https://ctsilc.org/wp-content/uploads/2026/02/ccdla-512-e1770845852884.png
END:VEVENT
BEGIN:VEVENT
DTSTART;TZID=UTC:20261106T120000
DTEND;TZID=UTC:20261106T130000
DTSTAMP:20260423T234603
CREATED:20260211T205749Z
LAST-MODIFIED:20260211T211922Z
UID:10001293-1793966400-1793970000@ctsilc.org
SUMMARY:CT Cross Disability Lifespan Alliance
DESCRIPTION:All meetings are virtual every Friday from\n12:00-1:00 PM \n\nTo join our virtual meeting please email Michele DuBois for a Zoom link. 
URL:https://ctsilc.org/event/ct-cross-disability-lifespan-alliance/2026-11-06/
LOCATION:Virtual Via Zoom
CATEGORIES:Cross Disability Lifespan Alliance Policy/Legislative meetings
ATTACH;FMTTYPE=image/png:https://ctsilc.org/wp-content/uploads/2026/02/ccdla-512-e1770845852884.png
END:VEVENT
BEGIN:VEVENT
DTSTART;TZID=UTC:20261110T130000
DTEND;TZID=UTC:20261110T140000
DTSTAMP:20260423T234603
CREATED:20260211T183430Z
LAST-MODIFIED:20260211T214804Z
UID:10001201-1794315600-1794319200@ctsilc.org
SUMMARY:Data Tech Meeting
DESCRIPTION:All meetings are virtual on the 2nd Tuesday of each month\n1:00 – 2:00 PM \n\n\nTo join our virtual meeting please email Michele DuBois for a Zoom link. 
URL:https://ctsilc.org/event/data-tech-meeting/2026-11-10/
LOCATION:Virtual Via Zoom
CATEGORIES:Data Tech Committee
ATTACH;FMTTYPE=image/png:https://ctsilc.org/wp-content/uploads/2026/02/noun-data-8259289-FFFFFF.png
END:VEVENT
BEGIN:VEVENT
DTSTART;TZID=UTC:20261111T130000
DTEND;TZID=UTC:20261111T140000
DTSTAMP:20260423T234603
CREATED:20250307T185555Z
LAST-MODIFIED:20260211T214734Z
UID:10000996-1794402000-1794405600@ctsilc.org
SUMMARY:State Plan for Independent Living (SPIL) Committee
DESCRIPTION:To join our virtual meeting please email Michele DuBois for a Zoom link.
URL:https://ctsilc.org/event/state-plan-for-independent-living-spil-committee-3-2-2-2/2026-11-11/
LOCATION:Virtual Via Zoom
CATEGORIES:State Plan for Independent Living (SPIL) Committee
ATTACH;FMTTYPE=image/png:https://ctsilc.org/wp-content/uploads/2025/03/plan-spil.png
END:VEVENT
BEGIN:VEVENT
DTSTART;TZID=UTC:20261113T120000
DTEND;TZID=UTC:20261113T130000
DTSTAMP:20260423T234603
CREATED:20260211T205749Z
LAST-MODIFIED:20260211T211922Z
UID:10001294-1794571200-1794574800@ctsilc.org
SUMMARY:CT Cross Disability Lifespan Alliance
DESCRIPTION:All meetings are virtual every Friday from\n12:00-1:00 PM \n\nTo join our virtual meeting please email Michele DuBois for a Zoom link. 
URL:https://ctsilc.org/event/ct-cross-disability-lifespan-alliance/2026-11-13/
LOCATION:Virtual Via Zoom
CATEGORIES:Cross Disability Lifespan Alliance Policy/Legislative meetings
ATTACH;FMTTYPE=image/png:https://ctsilc.org/wp-content/uploads/2026/02/ccdla-512-e1770845852884.png
END:VEVENT
BEGIN:VEVENT
DTSTART;TZID=UTC:20261118T150000
DTEND;TZID=UTC:20261118T170000
DTSTAMP:20260423T234603
CREATED:20250124T181644Z
LAST-MODIFIED:20260211T212804Z
UID:10000833-1795014000-1795021200@ctsilc.org
SUMMARY:SILC Monthly Board Meeting
DESCRIPTION:To join our virtual meeting please email Michele DuBois for a Zoom link.
URL:https://ctsilc.org/event/silc-board-meeting-4-3/2026-11-18/
LOCATION:Virtual Via Zoom
CATEGORIES:SILC Monthly Board Meeting
ATTACH;FMTTYPE=image/png:https://ctsilc.org/wp-content/uploads/2025/01/SILC-Board-meeting-1-e1770845804535.png
END:VEVENT
BEGIN:VEVENT
DTSTART;TZID=UTC:20261119T100000
DTEND;TZID=UTC:20261119T110000
DTSTAMP:20260423T234603
CREATED:20250307T183807Z
LAST-MODIFIED:20260211T212154Z
UID:10001056-1795082400-1795086000@ctsilc.org
SUMMARY:Emergency Preparedness Committee
DESCRIPTION:To join our virtual meeting please email Michele DuBois for a Zoom link. 
URL:https://ctsilc.org/event/emergency-preparedness-committee/2026-11-19/
LOCATION:Virtual Via Zoom
CATEGORIES:Emergency Preparedness Committee
ATTACH;FMTTYPE=image/png:https://ctsilc.org/wp-content/uploads/2025/03/eprep-512-e1770845838262.png
END:VEVENT
BEGIN:VEVENT
DTSTART;TZID=UTC:20261120T120000
DTEND;TZID=UTC:20261120T130000
DTSTAMP:20260423T234603
CREATED:20260211T205749Z
LAST-MODIFIED:20260211T211922Z
UID:10001295-1795176000-1795179600@ctsilc.org
SUMMARY:CT Cross Disability Lifespan Alliance
DESCRIPTION:All meetings are virtual every Friday from\n12:00-1:00 PM \n\nTo join our virtual meeting please email Michele DuBois for a Zoom link. 
URL:https://ctsilc.org/event/ct-cross-disability-lifespan-alliance/2026-11-20/
LOCATION:Virtual Via Zoom
CATEGORIES:Cross Disability Lifespan Alliance Policy/Legislative meetings
ATTACH;FMTTYPE=image/png:https://ctsilc.org/wp-content/uploads/2026/02/ccdla-512-e1770845852884.png
END:VEVENT
BEGIN:VEVENT
DTSTART;TZID=UTC:20261127T120000
DTEND;TZID=UTC:20261127T130000
DTSTAMP:20260423T234603
CREATED:20260211T205749Z
LAST-MODIFIED:20260211T211922Z
UID:10001296-1795780800-1795784400@ctsilc.org
SUMMARY:CT Cross Disability Lifespan Alliance
DESCRIPTION:All meetings are virtual every Friday from\n12:00-1:00 PM \n\nTo join our virtual meeting please email Michele DuBois for a Zoom link. 
URL:https://ctsilc.org/event/ct-cross-disability-lifespan-alliance/2026-11-27/
LOCATION:Virtual Via Zoom
CATEGORIES:Cross Disability Lifespan Alliance Policy/Legislative meetings
ATTACH;FMTTYPE=image/png:https://ctsilc.org/wp-content/uploads/2026/02/ccdla-512-e1770845852884.png
END:VEVENT
BEGIN:VEVENT
DTSTART;TZID=UTC:20261204T120000
DTEND;TZID=UTC:20261204T130000
DTSTAMP:20260423T234603
CREATED:20260211T205749Z
LAST-MODIFIED:20260211T211922Z
UID:10001297-1796385600-1796389200@ctsilc.org
SUMMARY:CT Cross Disability Lifespan Alliance
DESCRIPTION:All meetings are virtual every Friday from\n12:00-1:00 PM \n\nTo join our virtual meeting please email Michele DuBois for a Zoom link. 
URL:https://ctsilc.org/event/ct-cross-disability-lifespan-alliance/2026-12-04/
LOCATION:Virtual Via Zoom
CATEGORIES:Cross Disability Lifespan Alliance Policy/Legislative meetings
ATTACH;FMTTYPE=image/png:https://ctsilc.org/wp-content/uploads/2026/02/ccdla-512-e1770845852884.png
END:VEVENT
BEGIN:VEVENT
DTSTART;TZID=UTC:20261208T130000
DTEND;TZID=UTC:20261208T140000
DTSTAMP:20260423T234603
CREATED:20260211T183430Z
LAST-MODIFIED:20260211T214804Z
UID:10001202-1796734800-1796738400@ctsilc.org
SUMMARY:Data Tech Meeting
DESCRIPTION:All meetings are virtual on the 2nd Tuesday of each month\n1:00 – 2:00 PM \n\n\nTo join our virtual meeting please email Michele DuBois for a Zoom link. 
URL:https://ctsilc.org/event/data-tech-meeting/2026-12-08/
LOCATION:Virtual Via Zoom
CATEGORIES:Data Tech Committee
ATTACH;FMTTYPE=image/png:https://ctsilc.org/wp-content/uploads/2026/02/noun-data-8259289-FFFFFF.png
END:VEVENT
BEGIN:VEVENT
DTSTART;TZID=UTC:20261209T130000
DTEND;TZID=UTC:20261209T140000
DTSTAMP:20260423T234603
CREATED:20250307T185555Z
LAST-MODIFIED:20260211T214734Z
UID:10000997-1796821200-1796824800@ctsilc.org
SUMMARY:State Plan for Independent Living (SPIL) Committee
DESCRIPTION:To join our virtual meeting please email Michele DuBois for a Zoom link.
URL:https://ctsilc.org/event/state-plan-for-independent-living-spil-committee-3-2-2-2/2026-12-09/
LOCATION:Virtual Via Zoom
CATEGORIES:State Plan for Independent Living (SPIL) Committee
ATTACH;FMTTYPE=image/png:https://ctsilc.org/wp-content/uploads/2025/03/plan-spil.png
END:VEVENT
BEGIN:VEVENT
DTSTART;TZID=UTC:20261211T120000
DTEND;TZID=UTC:20261211T130000
DTSTAMP:20260423T234603
CREATED:20260211T205749Z
LAST-MODIFIED:20260211T211922Z
UID:10001298-1796990400-1796994000@ctsilc.org
SUMMARY:CT Cross Disability Lifespan Alliance
DESCRIPTION:All meetings are virtual every Friday from\n12:00-1:00 PM \n\nTo join our virtual meeting please email Michele DuBois for a Zoom link. 
URL:https://ctsilc.org/event/ct-cross-disability-lifespan-alliance/2026-12-11/
LOCATION:Virtual Via Zoom
CATEGORIES:Cross Disability Lifespan Alliance Policy/Legislative meetings
ATTACH;FMTTYPE=image/png:https://ctsilc.org/wp-content/uploads/2026/02/ccdla-512-e1770845852884.png
END:VEVENT
BEGIN:VEVENT
DTSTART;TZID=UTC:20261216T150000
DTEND;TZID=UTC:20261216T170000
DTSTAMP:20260423T234603
CREATED:20250124T181644Z
LAST-MODIFIED:20260211T212804Z
UID:10000834-1797433200-1797440400@ctsilc.org
SUMMARY:SILC Monthly Board Meeting
DESCRIPTION:To join our virtual meeting please email Michele DuBois for a Zoom link.
URL:https://ctsilc.org/event/silc-board-meeting-4-3/2026-12-16/
LOCATION:Virtual Via Zoom
CATEGORIES:SILC Monthly Board Meeting
ATTACH;FMTTYPE=image/png:https://ctsilc.org/wp-content/uploads/2025/01/SILC-Board-meeting-1-e1770845804535.png
END:VEVENT
BEGIN:VEVENT
DTSTART;TZID=UTC:20261217T100000
DTEND;TZID=UTC:20261217T110000
DTSTAMP:20260423T234603
CREATED:20250307T183807Z
LAST-MODIFIED:20260211T212154Z
UID:10001057-1797501600-1797505200@ctsilc.org
SUMMARY:Emergency Preparedness Committee
DESCRIPTION:To join our virtual meeting please email Michele DuBois for a Zoom link. 
URL:https://ctsilc.org/event/emergency-preparedness-committee/2026-12-17/
LOCATION:Virtual Via Zoom
CATEGORIES:Emergency Preparedness Committee
ATTACH;FMTTYPE=image/png:https://ctsilc.org/wp-content/uploads/2025/03/eprep-512-e1770845838262.png
END:VEVENT
END:VCALENDAR