BEGIN:VCALENDAR
VERSION:2.0
PRODID:-//CTSILC - ECPv6.15.20//NONSGML v1.0//EN
CALSCALE:GREGORIAN
METHOD:PUBLISH
X-ORIGINAL-URL:https://ctsilc.org
X-WR-CALDESC:Events for CTSILC
REFRESH-INTERVAL;VALUE=DURATION:PT1H
X-Robots-Tag:noindex
X-PUBLISHED-TTL:PT1H
BEGIN:VTIMEZONE
TZID:UTC
BEGIN:STANDARD
TZOFFSETFROM:+0000
TZOFFSETTO:+0000
TZNAME:UTC
DTSTART:20250101T000000
END:STANDARD
END:VTIMEZONE
BEGIN:VEVENT
DTSTART;TZID=UTC:20260610T130000
DTEND;TZID=UTC:20260610T140000
DTSTAMP:20260423T201304
CREATED:20250307T185555Z
LAST-MODIFIED:20260211T214734Z
UID:10000991-1781096400-1781100000@ctsilc.org
SUMMARY:State Plan for Independent Living (SPIL) Committee
DESCRIPTION:To join our virtual meeting please email Michele DuBois for a Zoom link.
URL:https://ctsilc.org/event/state-plan-for-independent-living-spil-committee-3-2-2-2/2026-06-10/
LOCATION:Virtual Via Zoom
CATEGORIES:State Plan for Independent Living (SPIL) Committee
ATTACH;FMTTYPE=image/png:https://ctsilc.org/wp-content/uploads/2025/03/plan-spil.png
END:VEVENT
BEGIN:VEVENT
DTSTART;TZID=UTC:20260612T120000
DTEND;TZID=UTC:20260612T130000
DTSTAMP:20260423T201304
CREATED:20260211T205749Z
LAST-MODIFIED:20260211T211922Z
UID:10001272-1781265600-1781269200@ctsilc.org
SUMMARY:CT Cross Disability Lifespan Alliance
DESCRIPTION:All meetings are virtual every Friday from\n12:00-1:00 PM \n\nTo join our virtual meeting please email Michele DuBois for a Zoom link. 
URL:https://ctsilc.org/event/ct-cross-disability-lifespan-alliance/2026-06-12/
LOCATION:Virtual Via Zoom
CATEGORIES:Cross Disability Lifespan Alliance Policy/Legislative meetings
ATTACH;FMTTYPE=image/png:https://ctsilc.org/wp-content/uploads/2026/02/ccdla-512-e1770845852884.png
END:VEVENT
BEGIN:VEVENT
DTSTART;TZID=UTC:20260617T150000
DTEND;TZID=UTC:20260617T170000
DTSTAMP:20260423T201304
CREATED:20250124T181644Z
LAST-MODIFIED:20260211T212804Z
UID:10000828-1781708400-1781715600@ctsilc.org
SUMMARY:SILC Monthly Board Meeting
DESCRIPTION:To join our virtual meeting please email Michele DuBois for a Zoom link.
URL:https://ctsilc.org/event/silc-board-meeting-4-3/2026-06-17/
LOCATION:Virtual Via Zoom
CATEGORIES:SILC Monthly Board Meeting
ATTACH;FMTTYPE=image/png:https://ctsilc.org/wp-content/uploads/2025/01/SILC-Board-meeting-1-e1770845804535.png
END:VEVENT
BEGIN:VEVENT
DTSTART;TZID=UTC:20260618T100000
DTEND;TZID=UTC:20260618T110000
DTSTAMP:20260423T201304
CREATED:20250307T183807Z
LAST-MODIFIED:20260211T212154Z
UID:10001051-1781776800-1781780400@ctsilc.org
SUMMARY:Emergency Preparedness Committee
DESCRIPTION:To join our virtual meeting please email Michele DuBois for a Zoom link. 
URL:https://ctsilc.org/event/emergency-preparedness-committee/2026-06-18/
LOCATION:Virtual Via Zoom
CATEGORIES:Emergency Preparedness Committee
ATTACH;FMTTYPE=image/png:https://ctsilc.org/wp-content/uploads/2025/03/eprep-512-e1770845838262.png
END:VEVENT
BEGIN:VEVENT
DTSTART;TZID=UTC:20260619T120000
DTEND;TZID=UTC:20260619T130000
DTSTAMP:20260423T201304
CREATED:20260211T205749Z
LAST-MODIFIED:20260211T211922Z
UID:10001273-1781870400-1781874000@ctsilc.org
SUMMARY:CT Cross Disability Lifespan Alliance
DESCRIPTION:All meetings are virtual every Friday from\n12:00-1:00 PM \n\nTo join our virtual meeting please email Michele DuBois for a Zoom link. 
URL:https://ctsilc.org/event/ct-cross-disability-lifespan-alliance/2026-06-19/
LOCATION:Virtual Via Zoom
CATEGORIES:Cross Disability Lifespan Alliance Policy/Legislative meetings
ATTACH;FMTTYPE=image/png:https://ctsilc.org/wp-content/uploads/2026/02/ccdla-512-e1770845852884.png
END:VEVENT
BEGIN:VEVENT
DTSTART;TZID=UTC:20260626T120000
DTEND;TZID=UTC:20260626T130000
DTSTAMP:20260423T201304
CREATED:20260211T205749Z
LAST-MODIFIED:20260211T211922Z
UID:10001274-1782475200-1782478800@ctsilc.org
SUMMARY:CT Cross Disability Lifespan Alliance
DESCRIPTION:All meetings are virtual every Friday from\n12:00-1:00 PM \n\nTo join our virtual meeting please email Michele DuBois for a Zoom link. 
URL:https://ctsilc.org/event/ct-cross-disability-lifespan-alliance/2026-06-26/
LOCATION:Virtual Via Zoom
CATEGORIES:Cross Disability Lifespan Alliance Policy/Legislative meetings
ATTACH;FMTTYPE=image/png:https://ctsilc.org/wp-content/uploads/2026/02/ccdla-512-e1770845852884.png
END:VEVENT
BEGIN:VEVENT
DTSTART;TZID=UTC:20260703T120000
DTEND;TZID=UTC:20260703T130000
DTSTAMP:20260423T201304
CREATED:20260211T205749Z
LAST-MODIFIED:20260211T211922Z
UID:10001275-1783080000-1783083600@ctsilc.org
SUMMARY:CT Cross Disability Lifespan Alliance
DESCRIPTION:All meetings are virtual every Friday from\n12:00-1:00 PM \n\nTo join our virtual meeting please email Michele DuBois for a Zoom link. 
URL:https://ctsilc.org/event/ct-cross-disability-lifespan-alliance/2026-07-03/
LOCATION:Virtual Via Zoom
CATEGORIES:Cross Disability Lifespan Alliance Policy/Legislative meetings
ATTACH;FMTTYPE=image/png:https://ctsilc.org/wp-content/uploads/2026/02/ccdla-512-e1770845852884.png
END:VEVENT
BEGIN:VEVENT
DTSTART;TZID=UTC:20260708T130000
DTEND;TZID=UTC:20260708T140000
DTSTAMP:20260423T201304
CREATED:20250307T185555Z
LAST-MODIFIED:20260211T214734Z
UID:10000992-1783515600-1783519200@ctsilc.org
SUMMARY:State Plan for Independent Living (SPIL) Committee
DESCRIPTION:To join our virtual meeting please email Michele DuBois for a Zoom link.
URL:https://ctsilc.org/event/state-plan-for-independent-living-spil-committee-3-2-2-2/2026-07-08/
LOCATION:Virtual Via Zoom
CATEGORIES:State Plan for Independent Living (SPIL) Committee
ATTACH;FMTTYPE=image/png:https://ctsilc.org/wp-content/uploads/2025/03/plan-spil.png
END:VEVENT
BEGIN:VEVENT
DTSTART;TZID=UTC:20260710T120000
DTEND;TZID=UTC:20260710T130000
DTSTAMP:20260423T201304
CREATED:20260211T205749Z
LAST-MODIFIED:20260211T211922Z
UID:10001276-1783684800-1783688400@ctsilc.org
SUMMARY:CT Cross Disability Lifespan Alliance
DESCRIPTION:All meetings are virtual every Friday from\n12:00-1:00 PM \n\nTo join our virtual meeting please email Michele DuBois for a Zoom link. 
URL:https://ctsilc.org/event/ct-cross-disability-lifespan-alliance/2026-07-10/
LOCATION:Virtual Via Zoom
CATEGORIES:Cross Disability Lifespan Alliance Policy/Legislative meetings
ATTACH;FMTTYPE=image/png:https://ctsilc.org/wp-content/uploads/2026/02/ccdla-512-e1770845852884.png
END:VEVENT
BEGIN:VEVENT
DTSTART;TZID=UTC:20260714T130000
DTEND;TZID=UTC:20260714T140000
DTSTAMP:20260423T201304
CREATED:20260211T183430Z
LAST-MODIFIED:20260211T214804Z
UID:10001197-1784034000-1784037600@ctsilc.org
SUMMARY:Data Tech Meeting
DESCRIPTION:All meetings are virtual on the 2nd Tuesday of each month\n1:00 – 2:00 PM \n\n\nTo join our virtual meeting please email Michele DuBois for a Zoom link. 
URL:https://ctsilc.org/event/data-tech-meeting/2026-07-14/
LOCATION:Virtual Via Zoom
CATEGORIES:Data Tech Committee
ATTACH;FMTTYPE=image/png:https://ctsilc.org/wp-content/uploads/2026/02/noun-data-8259289-FFFFFF.png
END:VEVENT
BEGIN:VEVENT
DTSTART;TZID=UTC:20260715T150000
DTEND;TZID=UTC:20260715T170000
DTSTAMP:20260423T201304
CREATED:20250124T181644Z
LAST-MODIFIED:20260211T212804Z
UID:10000829-1784127600-1784134800@ctsilc.org
SUMMARY:SILC Monthly Board Meeting
DESCRIPTION:To join our virtual meeting please email Michele DuBois for a Zoom link.
URL:https://ctsilc.org/event/silc-board-meeting-4-3/2026-07-15/
LOCATION:Virtual Via Zoom
CATEGORIES:SILC Monthly Board Meeting
ATTACH;FMTTYPE=image/png:https://ctsilc.org/wp-content/uploads/2025/01/SILC-Board-meeting-1-e1770845804535.png
END:VEVENT
BEGIN:VEVENT
DTSTART;TZID=UTC:20260716T100000
DTEND;TZID=UTC:20260716T110000
DTSTAMP:20260423T201304
CREATED:20250307T183807Z
LAST-MODIFIED:20260211T212154Z
UID:10001052-1784196000-1784199600@ctsilc.org
SUMMARY:Emergency Preparedness Committee
DESCRIPTION:To join our virtual meeting please email Michele DuBois for a Zoom link. 
URL:https://ctsilc.org/event/emergency-preparedness-committee/2026-07-16/
LOCATION:Virtual Via Zoom
CATEGORIES:Emergency Preparedness Committee
ATTACH;FMTTYPE=image/png:https://ctsilc.org/wp-content/uploads/2025/03/eprep-512-e1770845838262.png
END:VEVENT
BEGIN:VEVENT
DTSTART;TZID=UTC:20260717T120000
DTEND;TZID=UTC:20260717T130000
DTSTAMP:20260423T201304
CREATED:20260211T205749Z
LAST-MODIFIED:20260211T211922Z
UID:10001277-1784289600-1784293200@ctsilc.org
SUMMARY:CT Cross Disability Lifespan Alliance
DESCRIPTION:All meetings are virtual every Friday from\n12:00-1:00 PM \n\nTo join our virtual meeting please email Michele DuBois for a Zoom link. 
URL:https://ctsilc.org/event/ct-cross-disability-lifespan-alliance/2026-07-17/
LOCATION:Virtual Via Zoom
CATEGORIES:Cross Disability Lifespan Alliance Policy/Legislative meetings
ATTACH;FMTTYPE=image/png:https://ctsilc.org/wp-content/uploads/2026/02/ccdla-512-e1770845852884.png
END:VEVENT
BEGIN:VEVENT
DTSTART;TZID=UTC:20260724T120000
DTEND;TZID=UTC:20260724T130000
DTSTAMP:20260423T201304
CREATED:20260211T205749Z
LAST-MODIFIED:20260211T211922Z
UID:10001278-1784894400-1784898000@ctsilc.org
SUMMARY:CT Cross Disability Lifespan Alliance
DESCRIPTION:All meetings are virtual every Friday from\n12:00-1:00 PM \n\nTo join our virtual meeting please email Michele DuBois for a Zoom link. 
URL:https://ctsilc.org/event/ct-cross-disability-lifespan-alliance/2026-07-24/
LOCATION:Virtual Via Zoom
CATEGORIES:Cross Disability Lifespan Alliance Policy/Legislative meetings
ATTACH;FMTTYPE=image/png:https://ctsilc.org/wp-content/uploads/2026/02/ccdla-512-e1770845852884.png
END:VEVENT
BEGIN:VEVENT
DTSTART;TZID=UTC:20260731T120000
DTEND;TZID=UTC:20260731T130000
DTSTAMP:20260423T201304
CREATED:20260211T205749Z
LAST-MODIFIED:20260211T211922Z
UID:10001279-1785499200-1785502800@ctsilc.org
SUMMARY:CT Cross Disability Lifespan Alliance
DESCRIPTION:All meetings are virtual every Friday from\n12:00-1:00 PM \n\nTo join our virtual meeting please email Michele DuBois for a Zoom link. 
URL:https://ctsilc.org/event/ct-cross-disability-lifespan-alliance/2026-07-31/
LOCATION:Virtual Via Zoom
CATEGORIES:Cross Disability Lifespan Alliance Policy/Legislative meetings
ATTACH;FMTTYPE=image/png:https://ctsilc.org/wp-content/uploads/2026/02/ccdla-512-e1770845852884.png
END:VEVENT
BEGIN:VEVENT
DTSTART;TZID=UTC:20260807T120000
DTEND;TZID=UTC:20260807T130000
DTSTAMP:20260423T201304
CREATED:20260211T205749Z
LAST-MODIFIED:20260211T211922Z
UID:10001280-1786104000-1786107600@ctsilc.org
SUMMARY:CT Cross Disability Lifespan Alliance
DESCRIPTION:All meetings are virtual every Friday from\n12:00-1:00 PM \n\nTo join our virtual meeting please email Michele DuBois for a Zoom link. 
URL:https://ctsilc.org/event/ct-cross-disability-lifespan-alliance/2026-08-07/
LOCATION:Virtual Via Zoom
CATEGORIES:Cross Disability Lifespan Alliance Policy/Legislative meetings
ATTACH;FMTTYPE=image/png:https://ctsilc.org/wp-content/uploads/2026/02/ccdla-512-e1770845852884.png
END:VEVENT
BEGIN:VEVENT
DTSTART;TZID=UTC:20260811T130000
DTEND;TZID=UTC:20260811T140000
DTSTAMP:20260423T201304
CREATED:20260211T183430Z
LAST-MODIFIED:20260211T214804Z
UID:10001198-1786453200-1786456800@ctsilc.org
SUMMARY:Data Tech Meeting
DESCRIPTION:All meetings are virtual on the 2nd Tuesday of each month\n1:00 – 2:00 PM \n\n\nTo join our virtual meeting please email Michele DuBois for a Zoom link. 
URL:https://ctsilc.org/event/data-tech-meeting/2026-08-11/
LOCATION:Virtual Via Zoom
CATEGORIES:Data Tech Committee
ATTACH;FMTTYPE=image/png:https://ctsilc.org/wp-content/uploads/2026/02/noun-data-8259289-FFFFFF.png
END:VEVENT
BEGIN:VEVENT
DTSTART;TZID=UTC:20260812T130000
DTEND;TZID=UTC:20260812T140000
DTSTAMP:20260423T201304
CREATED:20250307T185555Z
LAST-MODIFIED:20260211T214734Z
UID:10000993-1786539600-1786543200@ctsilc.org
SUMMARY:State Plan for Independent Living (SPIL) Committee
DESCRIPTION:To join our virtual meeting please email Michele DuBois for a Zoom link.
URL:https://ctsilc.org/event/state-plan-for-independent-living-spil-committee-3-2-2-2/2026-08-12/
LOCATION:Virtual Via Zoom
CATEGORIES:State Plan for Independent Living (SPIL) Committee
ATTACH;FMTTYPE=image/png:https://ctsilc.org/wp-content/uploads/2025/03/plan-spil.png
END:VEVENT
BEGIN:VEVENT
DTSTART;TZID=UTC:20260814T120000
DTEND;TZID=UTC:20260814T130000
DTSTAMP:20260423T201304
CREATED:20260211T205749Z
LAST-MODIFIED:20260211T211922Z
UID:10001281-1786708800-1786712400@ctsilc.org
SUMMARY:CT Cross Disability Lifespan Alliance
DESCRIPTION:All meetings are virtual every Friday from\n12:00-1:00 PM \n\nTo join our virtual meeting please email Michele DuBois for a Zoom link. 
URL:https://ctsilc.org/event/ct-cross-disability-lifespan-alliance/2026-08-14/
LOCATION:Virtual Via Zoom
CATEGORIES:Cross Disability Lifespan Alliance Policy/Legislative meetings
ATTACH;FMTTYPE=image/png:https://ctsilc.org/wp-content/uploads/2026/02/ccdla-512-e1770845852884.png
END:VEVENT
BEGIN:VEVENT
DTSTART;TZID=UTC:20260819T150000
DTEND;TZID=UTC:20260819T170000
DTSTAMP:20260423T201304
CREATED:20250124T181644Z
LAST-MODIFIED:20260211T212804Z
UID:10000830-1787151600-1787158800@ctsilc.org
SUMMARY:SILC Monthly Board Meeting
DESCRIPTION:To join our virtual meeting please email Michele DuBois for a Zoom link.
URL:https://ctsilc.org/event/silc-board-meeting-4-3/2026-08-19/
LOCATION:Virtual Via Zoom
CATEGORIES:SILC Monthly Board Meeting
ATTACH;FMTTYPE=image/png:https://ctsilc.org/wp-content/uploads/2025/01/SILC-Board-meeting-1-e1770845804535.png
END:VEVENT
BEGIN:VEVENT
DTSTART;TZID=UTC:20260820T100000
DTEND;TZID=UTC:20260820T110000
DTSTAMP:20260423T201304
CREATED:20250307T183807Z
LAST-MODIFIED:20260211T212154Z
UID:10001053-1787220000-1787223600@ctsilc.org
SUMMARY:Emergency Preparedness Committee
DESCRIPTION:To join our virtual meeting please email Michele DuBois for a Zoom link. 
URL:https://ctsilc.org/event/emergency-preparedness-committee/2026-08-20/
LOCATION:Virtual Via Zoom
CATEGORIES:Emergency Preparedness Committee
ATTACH;FMTTYPE=image/png:https://ctsilc.org/wp-content/uploads/2025/03/eprep-512-e1770845838262.png
END:VEVENT
BEGIN:VEVENT
DTSTART;TZID=UTC:20260821T120000
DTEND;TZID=UTC:20260821T130000
DTSTAMP:20260423T201304
CREATED:20260211T205749Z
LAST-MODIFIED:20260211T211922Z
UID:10001282-1787313600-1787317200@ctsilc.org
SUMMARY:CT Cross Disability Lifespan Alliance
DESCRIPTION:All meetings are virtual every Friday from\n12:00-1:00 PM \n\nTo join our virtual meeting please email Michele DuBois for a Zoom link. 
URL:https://ctsilc.org/event/ct-cross-disability-lifespan-alliance/2026-08-21/
LOCATION:Virtual Via Zoom
CATEGORIES:Cross Disability Lifespan Alliance Policy/Legislative meetings
ATTACH;FMTTYPE=image/png:https://ctsilc.org/wp-content/uploads/2026/02/ccdla-512-e1770845852884.png
END:VEVENT
BEGIN:VEVENT
DTSTART;TZID=UTC:20260828T120000
DTEND;TZID=UTC:20260828T130000
DTSTAMP:20260423T201304
CREATED:20260211T205749Z
LAST-MODIFIED:20260211T211922Z
UID:10001283-1787918400-1787922000@ctsilc.org
SUMMARY:CT Cross Disability Lifespan Alliance
DESCRIPTION:All meetings are virtual every Friday from\n12:00-1:00 PM \n\nTo join our virtual meeting please email Michele DuBois for a Zoom link. 
URL:https://ctsilc.org/event/ct-cross-disability-lifespan-alliance/2026-08-28/
LOCATION:Virtual Via Zoom
CATEGORIES:Cross Disability Lifespan Alliance Policy/Legislative meetings
ATTACH;FMTTYPE=image/png:https://ctsilc.org/wp-content/uploads/2026/02/ccdla-512-e1770845852884.png
END:VEVENT
BEGIN:VEVENT
DTSTART;TZID=UTC:20260904T120000
DTEND;TZID=UTC:20260904T130000
DTSTAMP:20260423T201304
CREATED:20260211T205749Z
LAST-MODIFIED:20260211T211922Z
UID:10001284-1788523200-1788526800@ctsilc.org
SUMMARY:CT Cross Disability Lifespan Alliance
DESCRIPTION:All meetings are virtual every Friday from\n12:00-1:00 PM \n\nTo join our virtual meeting please email Michele DuBois for a Zoom link. 
URL:https://ctsilc.org/event/ct-cross-disability-lifespan-alliance/2026-09-04/
LOCATION:Virtual Via Zoom
CATEGORIES:Cross Disability Lifespan Alliance Policy/Legislative meetings
ATTACH;FMTTYPE=image/png:https://ctsilc.org/wp-content/uploads/2026/02/ccdla-512-e1770845852884.png
END:VEVENT
BEGIN:VEVENT
DTSTART;TZID=UTC:20260908T130000
DTEND;TZID=UTC:20260908T140000
DTSTAMP:20260423T201304
CREATED:20260211T183430Z
LAST-MODIFIED:20260211T214804Z
UID:10001199-1788872400-1788876000@ctsilc.org
SUMMARY:Data Tech Meeting
DESCRIPTION:All meetings are virtual on the 2nd Tuesday of each month\n1:00 – 2:00 PM \n\n\nTo join our virtual meeting please email Michele DuBois for a Zoom link. 
URL:https://ctsilc.org/event/data-tech-meeting/2026-09-08/
LOCATION:Virtual Via Zoom
CATEGORIES:Data Tech Committee
ATTACH;FMTTYPE=image/png:https://ctsilc.org/wp-content/uploads/2026/02/noun-data-8259289-FFFFFF.png
END:VEVENT
BEGIN:VEVENT
DTSTART;TZID=UTC:20260909T130000
DTEND;TZID=UTC:20260909T140000
DTSTAMP:20260423T201304
CREATED:20250307T185555Z
LAST-MODIFIED:20260211T214734Z
UID:10000994-1788958800-1788962400@ctsilc.org
SUMMARY:State Plan for Independent Living (SPIL) Committee
DESCRIPTION:To join our virtual meeting please email Michele DuBois for a Zoom link.
URL:https://ctsilc.org/event/state-plan-for-independent-living-spil-committee-3-2-2-2/2026-09-09/
LOCATION:Virtual Via Zoom
CATEGORIES:State Plan for Independent Living (SPIL) Committee
ATTACH;FMTTYPE=image/png:https://ctsilc.org/wp-content/uploads/2025/03/plan-spil.png
END:VEVENT
BEGIN:VEVENT
DTSTART;TZID=UTC:20260911T120000
DTEND;TZID=UTC:20260911T130000
DTSTAMP:20260423T201304
CREATED:20260211T205749Z
LAST-MODIFIED:20260211T211922Z
UID:10001285-1789128000-1789131600@ctsilc.org
SUMMARY:CT Cross Disability Lifespan Alliance
DESCRIPTION:All meetings are virtual every Friday from\n12:00-1:00 PM \n\nTo join our virtual meeting please email Michele DuBois for a Zoom link. 
URL:https://ctsilc.org/event/ct-cross-disability-lifespan-alliance/2026-09-11/
LOCATION:Virtual Via Zoom
CATEGORIES:Cross Disability Lifespan Alliance Policy/Legislative meetings
ATTACH;FMTTYPE=image/png:https://ctsilc.org/wp-content/uploads/2026/02/ccdla-512-e1770845852884.png
END:VEVENT
BEGIN:VEVENT
DTSTART;TZID=UTC:20260916T130000
DTEND;TZID=UTC:20260916T150000
DTSTAMP:20260423T201304
CREATED:20230905T164228Z
LAST-MODIFIED:20260211T213205Z
UID:10000039-1789563600-1789570800@ctsilc.org
SUMMARY:SILC Annual Board Meeting
DESCRIPTION:Please join us for our Annual Board Meeting \n1:00 pm – 3:00 pm \nAdditional details will be provided as we approach the event.
URL:https://ctsilc.org/event/silc-board-meeting-3/
CATEGORIES:SILC Annual Board Meeting
END:VEVENT
BEGIN:VEVENT
DTSTART;TZID=UTC:20260917T100000
DTEND;TZID=UTC:20260917T110000
DTSTAMP:20260423T201304
CREATED:20250307T183807Z
LAST-MODIFIED:20260211T212154Z
UID:10001054-1789639200-1789642800@ctsilc.org
SUMMARY:Emergency Preparedness Committee
DESCRIPTION:To join our virtual meeting please email Michele DuBois for a Zoom link. 
URL:https://ctsilc.org/event/emergency-preparedness-committee/2026-09-17/
LOCATION:Virtual Via Zoom
CATEGORIES:Emergency Preparedness Committee
ATTACH;FMTTYPE=image/png:https://ctsilc.org/wp-content/uploads/2025/03/eprep-512-e1770845838262.png
END:VEVENT
BEGIN:VEVENT
DTSTART;TZID=UTC:20260918T120000
DTEND;TZID=UTC:20260918T130000
DTSTAMP:20260423T201304
CREATED:20260211T205749Z
LAST-MODIFIED:20260211T211922Z
UID:10001286-1789732800-1789736400@ctsilc.org
SUMMARY:CT Cross Disability Lifespan Alliance
DESCRIPTION:All meetings are virtual every Friday from\n12:00-1:00 PM \n\nTo join our virtual meeting please email Michele DuBois for a Zoom link. 
URL:https://ctsilc.org/event/ct-cross-disability-lifespan-alliance/2026-09-18/
LOCATION:Virtual Via Zoom
CATEGORIES:Cross Disability Lifespan Alliance Policy/Legislative meetings
ATTACH;FMTTYPE=image/png:https://ctsilc.org/wp-content/uploads/2026/02/ccdla-512-e1770845852884.png
END:VEVENT
END:VCALENDAR