BEGIN:VCALENDAR
VERSION:2.0
PRODID:-//CTSILC - ECPv6.15.20//NONSGML v1.0//EN
CALSCALE:GREGORIAN
METHOD:PUBLISH
X-WR-CALNAME:CTSILC
X-ORIGINAL-URL:https://ctsilc.org
X-WR-CALDESC:Events for CTSILC
REFRESH-INTERVAL;VALUE=DURATION:PT1H
X-Robots-Tag:noindex
X-PUBLISHED-TTL:PT1H
BEGIN:VTIMEZONE
TZID:UTC
BEGIN:STANDARD
TZOFFSETFROM:+0000
TZOFFSETTO:+0000
TZNAME:UTC
DTSTART:20290101T000000
END:STANDARD
END:VTIMEZONE
BEGIN:VEVENT
DTSTART;TZID=UTC:20300510T120000
DTEND;TZID=UTC:20300510T130000
DTSTAMP:20260425T183838
CREATED:20260211T205749Z
LAST-MODIFIED:20260211T211922Z
UID:10001476-1904644800-1904648400@ctsilc.org
SUMMARY:CT Cross Disability Lifespan Alliance
DESCRIPTION:All meetings are virtual every Friday from\n12:00-1:00 PM \n\nTo join our virtual meeting please email Michele DuBois for a Zoom link. 
URL:https://ctsilc.org/event/ct-cross-disability-lifespan-alliance/2030-05-10/
LOCATION:Virtual Via Zoom
CATEGORIES:Cross Disability Lifespan Alliance Policy/Legislative meetings
ATTACH;FMTTYPE=image/png:https://ctsilc.org/wp-content/uploads/2026/02/ccdla-512-e1770845852884.png
END:VEVENT
BEGIN:VEVENT
DTSTART;TZID=UTC:20300514T130000
DTEND;TZID=UTC:20300514T140000
DTSTAMP:20260425T183838
CREATED:20260211T183430Z
LAST-MODIFIED:20260211T214804Z
UID:10001243-1904994000-1904997600@ctsilc.org
SUMMARY:Data Tech Meeting
DESCRIPTION:All meetings are virtual on the 2nd Tuesday of each month\n1:00 – 2:00 PM \n\n\nTo join our virtual meeting please email Michele DuBois for a Zoom link. 
URL:https://ctsilc.org/event/data-tech-meeting/2030-05-14/
LOCATION:Virtual Via Zoom
CATEGORIES:Data Tech Committee
ATTACH;FMTTYPE=image/png:https://ctsilc.org/wp-content/uploads/2026/02/noun-data-8259289-FFFFFF.png
END:VEVENT
BEGIN:VEVENT
DTSTART;TZID=UTC:20300517T120000
DTEND;TZID=UTC:20300517T130000
DTSTAMP:20260425T183838
CREATED:20260211T205749Z
LAST-MODIFIED:20260211T211922Z
UID:10001477-1905249600-1905253200@ctsilc.org
SUMMARY:CT Cross Disability Lifespan Alliance
DESCRIPTION:All meetings are virtual every Friday from\n12:00-1:00 PM \n\nTo join our virtual meeting please email Michele DuBois for a Zoom link. 
URL:https://ctsilc.org/event/ct-cross-disability-lifespan-alliance/2030-05-17/
LOCATION:Virtual Via Zoom
CATEGORIES:Cross Disability Lifespan Alliance Policy/Legislative meetings
ATTACH;FMTTYPE=image/png:https://ctsilc.org/wp-content/uploads/2026/02/ccdla-512-e1770845852884.png
END:VEVENT
BEGIN:VEVENT
DTSTART;TZID=UTC:20300524T120000
DTEND;TZID=UTC:20300524T130000
DTSTAMP:20260425T183838
CREATED:20260211T205749Z
LAST-MODIFIED:20260211T211922Z
UID:10001478-1905854400-1905858000@ctsilc.org
SUMMARY:CT Cross Disability Lifespan Alliance
DESCRIPTION:All meetings are virtual every Friday from\n12:00-1:00 PM \n\nTo join our virtual meeting please email Michele DuBois for a Zoom link. 
URL:https://ctsilc.org/event/ct-cross-disability-lifespan-alliance/2030-05-24/
LOCATION:Virtual Via Zoom
CATEGORIES:Cross Disability Lifespan Alliance Policy/Legislative meetings
ATTACH;FMTTYPE=image/png:https://ctsilc.org/wp-content/uploads/2026/02/ccdla-512-e1770845852884.png
END:VEVENT
BEGIN:VEVENT
DTSTART;TZID=UTC:20300531T120000
DTEND;TZID=UTC:20300531T130000
DTSTAMP:20260425T183838
CREATED:20260211T205749Z
LAST-MODIFIED:20260211T211922Z
UID:10001479-1906459200-1906462800@ctsilc.org
SUMMARY:CT Cross Disability Lifespan Alliance
DESCRIPTION:All meetings are virtual every Friday from\n12:00-1:00 PM \n\nTo join our virtual meeting please email Michele DuBois for a Zoom link. 
URL:https://ctsilc.org/event/ct-cross-disability-lifespan-alliance/2030-05-31/
LOCATION:Virtual Via Zoom
CATEGORIES:Cross Disability Lifespan Alliance Policy/Legislative meetings
ATTACH;FMTTYPE=image/png:https://ctsilc.org/wp-content/uploads/2026/02/ccdla-512-e1770845852884.png
END:VEVENT
BEGIN:VEVENT
DTSTART;TZID=UTC:20300607T120000
DTEND;TZID=UTC:20300607T130000
DTSTAMP:20260425T183838
CREATED:20260211T205749Z
LAST-MODIFIED:20260211T211922Z
UID:10001480-1907064000-1907067600@ctsilc.org
SUMMARY:CT Cross Disability Lifespan Alliance
DESCRIPTION:All meetings are virtual every Friday from\n12:00-1:00 PM \n\nTo join our virtual meeting please email Michele DuBois for a Zoom link. 
URL:https://ctsilc.org/event/ct-cross-disability-lifespan-alliance/2030-06-07/
LOCATION:Virtual Via Zoom
CATEGORIES:Cross Disability Lifespan Alliance Policy/Legislative meetings
ATTACH;FMTTYPE=image/png:https://ctsilc.org/wp-content/uploads/2026/02/ccdla-512-e1770845852884.png
END:VEVENT
BEGIN:VEVENT
DTSTART;TZID=UTC:20300611T130000
DTEND;TZID=UTC:20300611T140000
DTSTAMP:20260425T183838
CREATED:20260211T183430Z
LAST-MODIFIED:20260211T214804Z
UID:10001244-1907413200-1907416800@ctsilc.org
SUMMARY:Data Tech Meeting
DESCRIPTION:All meetings are virtual on the 2nd Tuesday of each month\n1:00 – 2:00 PM \n\n\nTo join our virtual meeting please email Michele DuBois for a Zoom link. 
URL:https://ctsilc.org/event/data-tech-meeting/2030-06-11/
LOCATION:Virtual Via Zoom
CATEGORIES:Data Tech Committee
ATTACH;FMTTYPE=image/png:https://ctsilc.org/wp-content/uploads/2026/02/noun-data-8259289-FFFFFF.png
END:VEVENT
BEGIN:VEVENT
DTSTART;TZID=UTC:20300612T130000
DTEND;TZID=UTC:20300612T140000
DTSTAMP:20260425T183838
CREATED:20250307T185555Z
LAST-MODIFIED:20260211T214734Z
UID:10001039-1907499600-1907503200@ctsilc.org
SUMMARY:State Plan for Independent Living (SPIL) Committee
DESCRIPTION:To join our virtual meeting please email Michele DuBois for a Zoom link.
URL:https://ctsilc.org/event/state-plan-for-independent-living-spil-committee-3-2-2-2/2030-06-12/
LOCATION:Virtual Via Zoom
CATEGORIES:State Plan for Independent Living (SPIL) Committee
ATTACH;FMTTYPE=image/png:https://ctsilc.org/wp-content/uploads/2025/03/plan-spil.png
END:VEVENT
BEGIN:VEVENT
DTSTART;TZID=UTC:20300614T120000
DTEND;TZID=UTC:20300614T130000
DTSTAMP:20260425T183838
CREATED:20260211T205749Z
LAST-MODIFIED:20260211T211922Z
UID:10001481-1907668800-1907672400@ctsilc.org
SUMMARY:CT Cross Disability Lifespan Alliance
DESCRIPTION:All meetings are virtual every Friday from\n12:00-1:00 PM \n\nTo join our virtual meeting please email Michele DuBois for a Zoom link. 
URL:https://ctsilc.org/event/ct-cross-disability-lifespan-alliance/2030-06-14/
LOCATION:Virtual Via Zoom
CATEGORIES:Cross Disability Lifespan Alliance Policy/Legislative meetings
ATTACH;FMTTYPE=image/png:https://ctsilc.org/wp-content/uploads/2026/02/ccdla-512-e1770845852884.png
END:VEVENT
BEGIN:VEVENT
DTSTART;TZID=UTC:20300621T120000
DTEND;TZID=UTC:20300621T130000
DTSTAMP:20260425T183838
CREATED:20260211T205749Z
LAST-MODIFIED:20260211T211922Z
UID:10001482-1908273600-1908277200@ctsilc.org
SUMMARY:CT Cross Disability Lifespan Alliance
DESCRIPTION:All meetings are virtual every Friday from\n12:00-1:00 PM \n\nTo join our virtual meeting please email Michele DuBois for a Zoom link. 
URL:https://ctsilc.org/event/ct-cross-disability-lifespan-alliance/2030-06-21/
LOCATION:Virtual Via Zoom
CATEGORIES:Cross Disability Lifespan Alliance Policy/Legislative meetings
ATTACH;FMTTYPE=image/png:https://ctsilc.org/wp-content/uploads/2026/02/ccdla-512-e1770845852884.png
END:VEVENT
BEGIN:VEVENT
DTSTART;TZID=UTC:20300628T120000
DTEND;TZID=UTC:20300628T130000
DTSTAMP:20260425T183838
CREATED:20260211T205749Z
LAST-MODIFIED:20260211T211922Z
UID:10001483-1908878400-1908882000@ctsilc.org
SUMMARY:CT Cross Disability Lifespan Alliance
DESCRIPTION:All meetings are virtual every Friday from\n12:00-1:00 PM \n\nTo join our virtual meeting please email Michele DuBois for a Zoom link. 
URL:https://ctsilc.org/event/ct-cross-disability-lifespan-alliance/2030-06-28/
LOCATION:Virtual Via Zoom
CATEGORIES:Cross Disability Lifespan Alliance Policy/Legislative meetings
ATTACH;FMTTYPE=image/png:https://ctsilc.org/wp-content/uploads/2026/02/ccdla-512-e1770845852884.png
END:VEVENT
BEGIN:VEVENT
DTSTART;TZID=UTC:20300705T120000
DTEND;TZID=UTC:20300705T130000
DTSTAMP:20260425T183838
CREATED:20260211T205749Z
LAST-MODIFIED:20260211T211922Z
UID:10001484-1909483200-1909486800@ctsilc.org
SUMMARY:CT Cross Disability Lifespan Alliance
DESCRIPTION:All meetings are virtual every Friday from\n12:00-1:00 PM \n\nTo join our virtual meeting please email Michele DuBois for a Zoom link. 
URL:https://ctsilc.org/event/ct-cross-disability-lifespan-alliance/2030-07-05/
LOCATION:Virtual Via Zoom
CATEGORIES:Cross Disability Lifespan Alliance Policy/Legislative meetings
ATTACH;FMTTYPE=image/png:https://ctsilc.org/wp-content/uploads/2026/02/ccdla-512-e1770845852884.png
END:VEVENT
BEGIN:VEVENT
DTSTART;TZID=UTC:20300709T130000
DTEND;TZID=UTC:20300709T140000
DTSTAMP:20260425T183838
CREATED:20260211T183430Z
LAST-MODIFIED:20260211T214804Z
UID:10001245-1909832400-1909836000@ctsilc.org
SUMMARY:Data Tech Meeting
DESCRIPTION:All meetings are virtual on the 2nd Tuesday of each month\n1:00 – 2:00 PM \n\n\nTo join our virtual meeting please email Michele DuBois for a Zoom link. 
URL:https://ctsilc.org/event/data-tech-meeting/2030-07-09/
LOCATION:Virtual Via Zoom
CATEGORIES:Data Tech Committee
ATTACH;FMTTYPE=image/png:https://ctsilc.org/wp-content/uploads/2026/02/noun-data-8259289-FFFFFF.png
END:VEVENT
BEGIN:VEVENT
DTSTART;TZID=UTC:20300710T130000
DTEND;TZID=UTC:20300710T140000
DTSTAMP:20260425T183838
CREATED:20250307T185555Z
LAST-MODIFIED:20260211T214734Z
UID:10001040-1909918800-1909922400@ctsilc.org
SUMMARY:State Plan for Independent Living (SPIL) Committee
DESCRIPTION:To join our virtual meeting please email Michele DuBois for a Zoom link.
URL:https://ctsilc.org/event/state-plan-for-independent-living-spil-committee-3-2-2-2/2030-07-10/
LOCATION:Virtual Via Zoom
CATEGORIES:State Plan for Independent Living (SPIL) Committee
ATTACH;FMTTYPE=image/png:https://ctsilc.org/wp-content/uploads/2025/03/plan-spil.png
END:VEVENT
BEGIN:VEVENT
DTSTART;TZID=UTC:20300712T120000
DTEND;TZID=UTC:20300712T130000
DTSTAMP:20260425T183838
CREATED:20260211T205749Z
LAST-MODIFIED:20260211T211922Z
UID:10001485-1910088000-1910091600@ctsilc.org
SUMMARY:CT Cross Disability Lifespan Alliance
DESCRIPTION:All meetings are virtual every Friday from\n12:00-1:00 PM \n\nTo join our virtual meeting please email Michele DuBois for a Zoom link. 
URL:https://ctsilc.org/event/ct-cross-disability-lifespan-alliance/2030-07-12/
LOCATION:Virtual Via Zoom
CATEGORIES:Cross Disability Lifespan Alliance Policy/Legislative meetings
ATTACH;FMTTYPE=image/png:https://ctsilc.org/wp-content/uploads/2026/02/ccdla-512-e1770845852884.png
END:VEVENT
BEGIN:VEVENT
DTSTART;TZID=UTC:20300719T120000
DTEND;TZID=UTC:20300719T130000
DTSTAMP:20260425T183838
CREATED:20260211T205749Z
LAST-MODIFIED:20260211T211922Z
UID:10001486-1910692800-1910696400@ctsilc.org
SUMMARY:CT Cross Disability Lifespan Alliance
DESCRIPTION:All meetings are virtual every Friday from\n12:00-1:00 PM \n\nTo join our virtual meeting please email Michele DuBois for a Zoom link. 
URL:https://ctsilc.org/event/ct-cross-disability-lifespan-alliance/2030-07-19/
LOCATION:Virtual Via Zoom
CATEGORIES:Cross Disability Lifespan Alliance Policy/Legislative meetings
ATTACH;FMTTYPE=image/png:https://ctsilc.org/wp-content/uploads/2026/02/ccdla-512-e1770845852884.png
END:VEVENT
BEGIN:VEVENT
DTSTART;TZID=UTC:20300726T120000
DTEND;TZID=UTC:20300726T130000
DTSTAMP:20260425T183838
CREATED:20260211T205749Z
LAST-MODIFIED:20260211T211922Z
UID:10001487-1911297600-1911301200@ctsilc.org
SUMMARY:CT Cross Disability Lifespan Alliance
DESCRIPTION:All meetings are virtual every Friday from\n12:00-1:00 PM \n\nTo join our virtual meeting please email Michele DuBois for a Zoom link. 
URL:https://ctsilc.org/event/ct-cross-disability-lifespan-alliance/2030-07-26/
LOCATION:Virtual Via Zoom
CATEGORIES:Cross Disability Lifespan Alliance Policy/Legislative meetings
ATTACH;FMTTYPE=image/png:https://ctsilc.org/wp-content/uploads/2026/02/ccdla-512-e1770845852884.png
END:VEVENT
BEGIN:VEVENT
DTSTART;TZID=UTC:20300802T120000
DTEND;TZID=UTC:20300802T130000
DTSTAMP:20260425T183838
CREATED:20260211T205749Z
LAST-MODIFIED:20260211T211922Z
UID:10001488-1911902400-1911906000@ctsilc.org
SUMMARY:CT Cross Disability Lifespan Alliance
DESCRIPTION:All meetings are virtual every Friday from\n12:00-1:00 PM \n\nTo join our virtual meeting please email Michele DuBois for a Zoom link. 
URL:https://ctsilc.org/event/ct-cross-disability-lifespan-alliance/2030-08-02/
LOCATION:Virtual Via Zoom
CATEGORIES:Cross Disability Lifespan Alliance Policy/Legislative meetings
ATTACH;FMTTYPE=image/png:https://ctsilc.org/wp-content/uploads/2026/02/ccdla-512-e1770845852884.png
END:VEVENT
BEGIN:VEVENT
DTSTART;TZID=UTC:20300809T120000
DTEND;TZID=UTC:20300809T130000
DTSTAMP:20260425T183838
CREATED:20260211T205749Z
LAST-MODIFIED:20260211T211922Z
UID:10001489-1912507200-1912510800@ctsilc.org
SUMMARY:CT Cross Disability Lifespan Alliance
DESCRIPTION:All meetings are virtual every Friday from\n12:00-1:00 PM \n\nTo join our virtual meeting please email Michele DuBois for a Zoom link. 
URL:https://ctsilc.org/event/ct-cross-disability-lifespan-alliance/2030-08-09/
LOCATION:Virtual Via Zoom
CATEGORIES:Cross Disability Lifespan Alliance Policy/Legislative meetings
ATTACH;FMTTYPE=image/png:https://ctsilc.org/wp-content/uploads/2026/02/ccdla-512-e1770845852884.png
END:VEVENT
BEGIN:VEVENT
DTSTART;TZID=UTC:20300813T130000
DTEND;TZID=UTC:20300813T140000
DTSTAMP:20260425T183838
CREATED:20260211T183430Z
LAST-MODIFIED:20260211T214804Z
UID:10001246-1912856400-1912860000@ctsilc.org
SUMMARY:Data Tech Meeting
DESCRIPTION:All meetings are virtual on the 2nd Tuesday of each month\n1:00 – 2:00 PM \n\n\nTo join our virtual meeting please email Michele DuBois for a Zoom link. 
URL:https://ctsilc.org/event/data-tech-meeting/2030-08-13/
LOCATION:Virtual Via Zoom
CATEGORIES:Data Tech Committee
ATTACH;FMTTYPE=image/png:https://ctsilc.org/wp-content/uploads/2026/02/noun-data-8259289-FFFFFF.png
END:VEVENT
BEGIN:VEVENT
DTSTART;TZID=UTC:20300814T130000
DTEND;TZID=UTC:20300814T140000
DTSTAMP:20260425T183838
CREATED:20250307T185555Z
LAST-MODIFIED:20260211T214734Z
UID:10001041-1912942800-1912946400@ctsilc.org
SUMMARY:State Plan for Independent Living (SPIL) Committee
DESCRIPTION:To join our virtual meeting please email Michele DuBois for a Zoom link.
URL:https://ctsilc.org/event/state-plan-for-independent-living-spil-committee-3-2-2-2/2030-08-14/
LOCATION:Virtual Via Zoom
CATEGORIES:State Plan for Independent Living (SPIL) Committee
ATTACH;FMTTYPE=image/png:https://ctsilc.org/wp-content/uploads/2025/03/plan-spil.png
END:VEVENT
BEGIN:VEVENT
DTSTART;TZID=UTC:20300816T120000
DTEND;TZID=UTC:20300816T130000
DTSTAMP:20260425T183838
CREATED:20260211T205749Z
LAST-MODIFIED:20260211T211922Z
UID:10001490-1913112000-1913115600@ctsilc.org
SUMMARY:CT Cross Disability Lifespan Alliance
DESCRIPTION:All meetings are virtual every Friday from\n12:00-1:00 PM \n\nTo join our virtual meeting please email Michele DuBois for a Zoom link. 
URL:https://ctsilc.org/event/ct-cross-disability-lifespan-alliance/2030-08-16/
LOCATION:Virtual Via Zoom
CATEGORIES:Cross Disability Lifespan Alliance Policy/Legislative meetings
ATTACH;FMTTYPE=image/png:https://ctsilc.org/wp-content/uploads/2026/02/ccdla-512-e1770845852884.png
END:VEVENT
BEGIN:VEVENT
DTSTART;TZID=UTC:20300823T120000
DTEND;TZID=UTC:20300823T130000
DTSTAMP:20260425T183838
CREATED:20260211T205749Z
LAST-MODIFIED:20260211T211922Z
UID:10001491-1913716800-1913720400@ctsilc.org
SUMMARY:CT Cross Disability Lifespan Alliance
DESCRIPTION:All meetings are virtual every Friday from\n12:00-1:00 PM \n\nTo join our virtual meeting please email Michele DuBois for a Zoom link. 
URL:https://ctsilc.org/event/ct-cross-disability-lifespan-alliance/2030-08-23/
LOCATION:Virtual Via Zoom
CATEGORIES:Cross Disability Lifespan Alliance Policy/Legislative meetings
ATTACH;FMTTYPE=image/png:https://ctsilc.org/wp-content/uploads/2026/02/ccdla-512-e1770845852884.png
END:VEVENT
BEGIN:VEVENT
DTSTART;TZID=UTC:20300830T120000
DTEND;TZID=UTC:20300830T130000
DTSTAMP:20260425T183838
CREATED:20260211T205749Z
LAST-MODIFIED:20260211T211922Z
UID:10001492-1914321600-1914325200@ctsilc.org
SUMMARY:CT Cross Disability Lifespan Alliance
DESCRIPTION:All meetings are virtual every Friday from\n12:00-1:00 PM \n\nTo join our virtual meeting please email Michele DuBois for a Zoom link. 
URL:https://ctsilc.org/event/ct-cross-disability-lifespan-alliance/2030-08-30/
LOCATION:Virtual Via Zoom
CATEGORIES:Cross Disability Lifespan Alliance Policy/Legislative meetings
ATTACH;FMTTYPE=image/png:https://ctsilc.org/wp-content/uploads/2026/02/ccdla-512-e1770845852884.png
END:VEVENT
BEGIN:VEVENT
DTSTART;TZID=UTC:20300906T120000
DTEND;TZID=UTC:20300906T130000
DTSTAMP:20260425T183838
CREATED:20260211T205749Z
LAST-MODIFIED:20260211T211922Z
UID:10001493-1914926400-1914930000@ctsilc.org
SUMMARY:CT Cross Disability Lifespan Alliance
DESCRIPTION:All meetings are virtual every Friday from\n12:00-1:00 PM \n\nTo join our virtual meeting please email Michele DuBois for a Zoom link. 
URL:https://ctsilc.org/event/ct-cross-disability-lifespan-alliance/2030-09-06/
LOCATION:Virtual Via Zoom
CATEGORIES:Cross Disability Lifespan Alliance Policy/Legislative meetings
ATTACH;FMTTYPE=image/png:https://ctsilc.org/wp-content/uploads/2026/02/ccdla-512-e1770845852884.png
END:VEVENT
BEGIN:VEVENT
DTSTART;TZID=UTC:20300910T130000
DTEND;TZID=UTC:20300910T140000
DTSTAMP:20260425T183838
CREATED:20260211T183430Z
LAST-MODIFIED:20260211T214804Z
UID:10001247-1915275600-1915279200@ctsilc.org
SUMMARY:Data Tech Meeting
DESCRIPTION:All meetings are virtual on the 2nd Tuesday of each month\n1:00 – 2:00 PM \n\n\nTo join our virtual meeting please email Michele DuBois for a Zoom link. 
URL:https://ctsilc.org/event/data-tech-meeting/2030-09-10/
LOCATION:Virtual Via Zoom
CATEGORIES:Data Tech Committee
ATTACH;FMTTYPE=image/png:https://ctsilc.org/wp-content/uploads/2026/02/noun-data-8259289-FFFFFF.png
END:VEVENT
BEGIN:VEVENT
DTSTART;TZID=UTC:20300911T130000
DTEND;TZID=UTC:20300911T140000
DTSTAMP:20260425T183838
CREATED:20250307T185555Z
LAST-MODIFIED:20260211T214734Z
UID:10001042-1915362000-1915365600@ctsilc.org
SUMMARY:State Plan for Independent Living (SPIL) Committee
DESCRIPTION:To join our virtual meeting please email Michele DuBois for a Zoom link.
URL:https://ctsilc.org/event/state-plan-for-independent-living-spil-committee-3-2-2-2/2030-09-11/
LOCATION:Virtual Via Zoom
CATEGORIES:State Plan for Independent Living (SPIL) Committee
ATTACH;FMTTYPE=image/png:https://ctsilc.org/wp-content/uploads/2025/03/plan-spil.png
END:VEVENT
BEGIN:VEVENT
DTSTART;TZID=UTC:20300913T120000
DTEND;TZID=UTC:20300913T130000
DTSTAMP:20260425T183838
CREATED:20260211T205749Z
LAST-MODIFIED:20260211T211922Z
UID:10001494-1915531200-1915534800@ctsilc.org
SUMMARY:CT Cross Disability Lifespan Alliance
DESCRIPTION:All meetings are virtual every Friday from\n12:00-1:00 PM \n\nTo join our virtual meeting please email Michele DuBois for a Zoom link. 
URL:https://ctsilc.org/event/ct-cross-disability-lifespan-alliance/2030-09-13/
LOCATION:Virtual Via Zoom
CATEGORIES:Cross Disability Lifespan Alliance Policy/Legislative meetings
ATTACH;FMTTYPE=image/png:https://ctsilc.org/wp-content/uploads/2026/02/ccdla-512-e1770845852884.png
END:VEVENT
BEGIN:VEVENT
DTSTART;TZID=UTC:20300920T120000
DTEND;TZID=UTC:20300920T130000
DTSTAMP:20260425T183838
CREATED:20260211T205749Z
LAST-MODIFIED:20260211T211922Z
UID:10001495-1916136000-1916139600@ctsilc.org
SUMMARY:CT Cross Disability Lifespan Alliance
DESCRIPTION:All meetings are virtual every Friday from\n12:00-1:00 PM \n\nTo join our virtual meeting please email Michele DuBois for a Zoom link. 
URL:https://ctsilc.org/event/ct-cross-disability-lifespan-alliance/2030-09-20/
LOCATION:Virtual Via Zoom
CATEGORIES:Cross Disability Lifespan Alliance Policy/Legislative meetings
ATTACH;FMTTYPE=image/png:https://ctsilc.org/wp-content/uploads/2026/02/ccdla-512-e1770845852884.png
END:VEVENT
BEGIN:VEVENT
DTSTART;TZID=UTC:20300927T120000
DTEND;TZID=UTC:20300927T130000
DTSTAMP:20260425T183838
CREATED:20260211T205749Z
LAST-MODIFIED:20260211T211922Z
UID:10001496-1916740800-1916744400@ctsilc.org
SUMMARY:CT Cross Disability Lifespan Alliance
DESCRIPTION:All meetings are virtual every Friday from\n12:00-1:00 PM \n\nTo join our virtual meeting please email Michele DuBois for a Zoom link. 
URL:https://ctsilc.org/event/ct-cross-disability-lifespan-alliance/2030-09-27/
LOCATION:Virtual Via Zoom
CATEGORIES:Cross Disability Lifespan Alliance Policy/Legislative meetings
ATTACH;FMTTYPE=image/png:https://ctsilc.org/wp-content/uploads/2026/02/ccdla-512-e1770845852884.png
END:VEVENT
END:VCALENDAR