BEGIN:VCALENDAR
VERSION:2.0
PRODID:-//CTSILC - ECPv6.15.20//NONSGML v1.0//EN
CALSCALE:GREGORIAN
METHOD:PUBLISH
X-ORIGINAL-URL:https://ctsilc.org
X-WR-CALDESC:Events for CTSILC
REFRESH-INTERVAL;VALUE=DURATION:PT1H
X-Robots-Tag:noindex
X-PUBLISHED-TTL:PT1H
BEGIN:VTIMEZONE
TZID:UTC
BEGIN:STANDARD
TZOFFSETFROM:+0000
TZOFFSETTO:+0000
TZNAME:UTC
DTSTART:20240101T000000
END:STANDARD
END:VTIMEZONE
BEGIN:VEVENT
DTSTART;TZID=UTC:20260311T130000
DTEND;TZID=UTC:20260311T140000
DTSTAMP:20260423T203434
CREATED:20250307T185555Z
LAST-MODIFIED:20260211T214734Z
UID:10000988-1773234000-1773237600@ctsilc.org
SUMMARY:State Plan for Independent Living (SPIL) Committee
DESCRIPTION:To join our virtual meeting please email Michele DuBois for a Zoom link.
URL:https://ctsilc.org/event/state-plan-for-independent-living-spil-committee-3-2-2-2/2026-03-11/
LOCATION:Virtual Via Zoom
CATEGORIES:State Plan for Independent Living (SPIL) Committee
ATTACH;FMTTYPE=image/png:https://ctsilc.org/wp-content/uploads/2025/03/plan-spil.png
END:VEVENT
BEGIN:VEVENT
DTSTART;TZID=UTC:20260310T130000
DTEND;TZID=UTC:20260310T140000
DTSTAMP:20260423T203434
CREATED:20260211T183430Z
LAST-MODIFIED:20260211T214804Z
UID:10001193-1773147600-1773151200@ctsilc.org
SUMMARY:Data Tech Meeting
DESCRIPTION:All meetings are virtual on the 2nd Tuesday of each month\n1:00 – 2:00 PM \n\n\nTo join our virtual meeting please email Michele DuBois for a Zoom link. 
URL:https://ctsilc.org/event/data-tech-meeting/2026-03-10/
LOCATION:Virtual Via Zoom
CATEGORIES:Data Tech Committee
ATTACH;FMTTYPE=image/png:https://ctsilc.org/wp-content/uploads/2026/02/noun-data-8259289-FFFFFF.png
END:VEVENT
BEGIN:VEVENT
DTSTART;TZID=UTC:20260306T120000
DTEND;TZID=UTC:20260306T130000
DTSTAMP:20260423T203434
CREATED:20260211T205749Z
LAST-MODIFIED:20260211T211922Z
UID:10001258-1772798400-1772802000@ctsilc.org
SUMMARY:CT Cross Disability Lifespan Alliance
DESCRIPTION:All meetings are virtual every Friday from\n12:00-1:00 PM \n\nTo join our virtual meeting please email Michele DuBois for a Zoom link. 
URL:https://ctsilc.org/event/ct-cross-disability-lifespan-alliance/2026-03-06/
LOCATION:Virtual Via Zoom
CATEGORIES:Cross Disability Lifespan Alliance Policy/Legislative meetings
ATTACH;FMTTYPE=image/png:https://ctsilc.org/wp-content/uploads/2026/02/ccdla-512-e1770845852884.png
END:VEVENT
BEGIN:VEVENT
DTSTART;TZID=UTC:20260227T120000
DTEND;TZID=UTC:20260227T130000
DTSTAMP:20260423T203434
CREATED:20260211T205749Z
LAST-MODIFIED:20260211T211922Z
UID:10001257-1772193600-1772197200@ctsilc.org
SUMMARY:CT Cross Disability Lifespan Alliance
DESCRIPTION:All meetings are virtual every Friday from\n12:00-1:00 PM \n\nTo join our virtual meeting please email Michele DuBois for a Zoom link. 
URL:https://ctsilc.org/event/ct-cross-disability-lifespan-alliance/2026-02-27/
LOCATION:Virtual Via Zoom
CATEGORIES:Cross Disability Lifespan Alliance Policy/Legislative meetings
ATTACH;FMTTYPE=image/png:https://ctsilc.org/wp-content/uploads/2026/02/ccdla-512-e1770845852884.png
END:VEVENT
BEGIN:VEVENT
DTSTART;TZID=UTC:20260220T120000
DTEND;TZID=UTC:20260220T130000
DTSTAMP:20260423T203434
CREATED:20260211T205749Z
LAST-MODIFIED:20260211T211922Z
UID:10001256-1771588800-1771592400@ctsilc.org
SUMMARY:CT Cross Disability Lifespan Alliance
DESCRIPTION:All meetings are virtual every Friday from\n12:00-1:00 PM \n\nTo join our virtual meeting please email Michele DuBois for a Zoom link. 
URL:https://ctsilc.org/event/ct-cross-disability-lifespan-alliance/2026-02-20/
LOCATION:Virtual Via Zoom
CATEGORIES:Cross Disability Lifespan Alliance Policy/Legislative meetings
ATTACH;FMTTYPE=image/png:https://ctsilc.org/wp-content/uploads/2026/02/ccdla-512-e1770845852884.png
END:VEVENT
BEGIN:VEVENT
DTSTART;TZID=UTC:20260219T100000
DTEND;TZID=UTC:20260219T110000
DTSTAMP:20260423T203434
CREATED:20250307T183807Z
LAST-MODIFIED:20260211T212154Z
UID:10001047-1771495200-1771498800@ctsilc.org
SUMMARY:Emergency Preparedness Committee
DESCRIPTION:To join our virtual meeting please email Michele DuBois for a Zoom link. 
URL:https://ctsilc.org/event/emergency-preparedness-committee/2026-02-19/
LOCATION:Virtual Via Zoom
CATEGORIES:Emergency Preparedness Committee
ATTACH;FMTTYPE=image/png:https://ctsilc.org/wp-content/uploads/2025/03/eprep-512-e1770845838262.png
END:VEVENT
BEGIN:VEVENT
DTSTART;TZID=UTC:20260213T120000
DTEND;TZID=UTC:20260213T130000
DTSTAMP:20260423T203434
CREATED:20260211T205749Z
LAST-MODIFIED:20260211T211922Z
UID:10001255-1770984000-1770987600@ctsilc.org
SUMMARY:CT Cross Disability Lifespan Alliance
DESCRIPTION:All meetings are virtual every Friday from\n12:00-1:00 PM \n\nTo join our virtual meeting please email Michele DuBois for a Zoom link. 
URL:https://ctsilc.org/event/ct-cross-disability-lifespan-alliance/2026-02-13/
LOCATION:Virtual Via Zoom
CATEGORIES:Cross Disability Lifespan Alliance Policy/Legislative meetings
ATTACH;FMTTYPE=image/png:https://ctsilc.org/wp-content/uploads/2026/02/ccdla-512-e1770845852884.png
END:VEVENT
BEGIN:VEVENT
DTSTART;TZID=UTC:20260211T130000
DTEND;TZID=UTC:20260211T140000
DTSTAMP:20260423T203434
CREATED:20250307T185555Z
LAST-MODIFIED:20260211T214734Z
UID:10000987-1770814800-1770818400@ctsilc.org
SUMMARY:State Plan for Independent Living (SPIL) Committee
DESCRIPTION:To join our virtual meeting please email Michele DuBois for a Zoom link.
URL:https://ctsilc.org/event/state-plan-for-independent-living-spil-committee-3-2-2-2/2026-02-11/
LOCATION:Virtual Via Zoom
CATEGORIES:State Plan for Independent Living (SPIL) Committee
ATTACH;FMTTYPE=image/png:https://ctsilc.org/wp-content/uploads/2025/03/plan-spil.png
END:VEVENT
BEGIN:VEVENT
DTSTART;TZID=UTC:20260210T130000
DTEND;TZID=UTC:20260210T140000
DTSTAMP:20260423T203434
CREATED:20260211T183430Z
LAST-MODIFIED:20260211T214804Z
UID:10001192-1770728400-1770732000@ctsilc.org
SUMMARY:Data Tech Meeting
DESCRIPTION:All meetings are virtual on the 2nd Tuesday of each month\n1:00 – 2:00 PM \n\n\nTo join our virtual meeting please email Michele DuBois for a Zoom link. 
URL:https://ctsilc.org/event/data-tech-meeting/2026-02-10/
LOCATION:Virtual Via Zoom
CATEGORIES:Data Tech Committee
ATTACH;FMTTYPE=image/png:https://ctsilc.org/wp-content/uploads/2026/02/noun-data-8259289-FFFFFF.png
END:VEVENT
BEGIN:VEVENT
DTSTART;TZID=UTC:20260206T120000
DTEND;TZID=UTC:20260206T130000
DTSTAMP:20260423T203434
CREATED:20260211T205749Z
LAST-MODIFIED:20260211T211922Z
UID:10001254-1770379200-1770382800@ctsilc.org
SUMMARY:CT Cross Disability Lifespan Alliance
DESCRIPTION:All meetings are virtual every Friday from\n12:00-1:00 PM \n\nTo join our virtual meeting please email Michele DuBois for a Zoom link. 
URL:https://ctsilc.org/event/ct-cross-disability-lifespan-alliance/2026-02-06/
LOCATION:Virtual Via Zoom
CATEGORIES:Cross Disability Lifespan Alliance Policy/Legislative meetings
ATTACH;FMTTYPE=image/png:https://ctsilc.org/wp-content/uploads/2026/02/ccdla-512-e1770845852884.png
END:VEVENT
BEGIN:VEVENT
DTSTART;TZID=UTC:20260121T150000
DTEND;TZID=UTC:20260121T170000
DTSTAMP:20260423T203434
CREATED:20250124T181644Z
LAST-MODIFIED:20260211T212804Z
UID:10001058-1769007600-1769014800@ctsilc.org
SUMMARY:SILC Monthly Board Meeting
DESCRIPTION:To join our virtual meeting please email Michele DuBois for a Zoom link.
URL:https://ctsilc.org/event/silc-board-meeting-4-3/2026-01-21/
LOCATION:Virtual Via Zoom
CATEGORIES:SILC Monthly Board Meeting
ATTACH;FMTTYPE=image/png:https://ctsilc.org/wp-content/uploads/2025/01/SILC-Board-meeting-1-e1770845804535.png
END:VEVENT
BEGIN:VEVENT
DTSTART;TZID=UTC:20260115T100000
DTEND;TZID=UTC:20260115T110000
DTSTAMP:20260423T203434
CREATED:20250307T183807Z
LAST-MODIFIED:20260211T212154Z
UID:10000958-1768471200-1768474800@ctsilc.org
SUMMARY:Emergency Preparedness Committee
DESCRIPTION:To join our virtual meeting please email Michele DuBois for a Zoom link. 
URL:https://ctsilc.org/event/emergency-preparedness-committee/2026-01-15/
LOCATION:Virtual Via Zoom
CATEGORIES:Emergency Preparedness Committee
ATTACH;FMTTYPE=image/png:https://ctsilc.org/wp-content/uploads/2025/03/eprep-512-e1770845838262.png
END:VEVENT
BEGIN:VEVENT
DTSTART;TZID=UTC:20260114T130000
DTEND;TZID=UTC:20260114T140000
DTSTAMP:20260423T203434
CREATED:20250307T185555Z
LAST-MODIFIED:20260211T214734Z
UID:10000986-1768395600-1768399200@ctsilc.org
SUMMARY:State Plan for Independent Living (SPIL) Committee
DESCRIPTION:To join our virtual meeting please email Michele DuBois for a Zoom link.
URL:https://ctsilc.org/event/state-plan-for-independent-living-spil-committee-3-2-2-2/2026-01-14/
LOCATION:Virtual Via Zoom
CATEGORIES:State Plan for Independent Living (SPIL) Committee
ATTACH;FMTTYPE=image/png:https://ctsilc.org/wp-content/uploads/2025/03/plan-spil.png
END:VEVENT
BEGIN:VEVENT
DTSTART;TZID=UTC:20251218T100000
DTEND;TZID=UTC:20251218T110000
DTSTAMP:20260423T203434
CREATED:20250307T183807Z
LAST-MODIFIED:20260211T212154Z
UID:10000957-1766052000-1766055600@ctsilc.org
SUMMARY:Emergency Preparedness Committee
DESCRIPTION:To join our virtual meeting please email Michele DuBois for a Zoom link. 
URL:https://ctsilc.org/event/emergency-preparedness-committee/2025-12-18/
LOCATION:Virtual Via Zoom
CATEGORIES:Emergency Preparedness Committee
ATTACH;FMTTYPE=image/png:https://ctsilc.org/wp-content/uploads/2025/03/eprep-512-e1770845838262.png
END:VEVENT
BEGIN:VEVENT
DTSTART;TZID=UTC:20251210T130000
DTEND;TZID=UTC:20251210T140000
DTSTAMP:20260423T203434
CREATED:20250307T185555Z
LAST-MODIFIED:20260211T214734Z
UID:10000985-1765371600-1765375200@ctsilc.org
SUMMARY:State Plan for Independent Living (SPIL) Committee
DESCRIPTION:To join our virtual meeting please email Michele DuBois for a Zoom link.
URL:https://ctsilc.org/event/state-plan-for-independent-living-spil-committee-3-2-2-2/2025-12-10/
LOCATION:Virtual Via Zoom
CATEGORIES:State Plan for Independent Living (SPIL) Committee
ATTACH;FMTTYPE=image/png:https://ctsilc.org/wp-content/uploads/2025/03/plan-spil.png
END:VEVENT
BEGIN:VEVENT
DTSTART;TZID=UTC:20251120T100000
DTEND;TZID=UTC:20251120T110000
DTSTAMP:20260423T203434
CREATED:20250307T183807Z
LAST-MODIFIED:20260211T212154Z
UID:10000956-1763632800-1763636400@ctsilc.org
SUMMARY:Emergency Preparedness Committee
DESCRIPTION:To join our virtual meeting please email Michele DuBois for a Zoom link. 
URL:https://ctsilc.org/event/emergency-preparedness-committee/2025-11-20/
LOCATION:Virtual Via Zoom
CATEGORIES:Emergency Preparedness Committee
ATTACH;FMTTYPE=image/png:https://ctsilc.org/wp-content/uploads/2025/03/eprep-512-e1770845838262.png
END:VEVENT
BEGIN:VEVENT
DTSTART;TZID=UTC:20251112T130000
DTEND;TZID=UTC:20251112T140000
DTSTAMP:20260423T203434
CREATED:20250307T185555Z
LAST-MODIFIED:20260211T214734Z
UID:10000984-1762952400-1762956000@ctsilc.org
SUMMARY:State Plan for Independent Living (SPIL) Committee
DESCRIPTION:To join our virtual meeting please email Michele DuBois for a Zoom link.
URL:https://ctsilc.org/event/state-plan-for-independent-living-spil-committee-3-2-2-2/2025-11-12/
LOCATION:Virtual Via Zoom
CATEGORIES:State Plan for Independent Living (SPIL) Committee
ATTACH;FMTTYPE=image/png:https://ctsilc.org/wp-content/uploads/2025/03/plan-spil.png
END:VEVENT
BEGIN:VEVENT
DTSTART;TZID=UTC:20251016T100000
DTEND;TZID=UTC:20251016T110000
DTSTAMP:20260423T203434
CREATED:20250307T183807Z
LAST-MODIFIED:20260211T212154Z
UID:10000955-1760608800-1760612400@ctsilc.org
SUMMARY:Emergency Preparedness Committee
DESCRIPTION:To join our virtual meeting please email Michele DuBois for a Zoom link. 
URL:https://ctsilc.org/event/emergency-preparedness-committee/2025-10-16/
LOCATION:Virtual Via Zoom
CATEGORIES:Emergency Preparedness Committee
ATTACH;FMTTYPE=image/png:https://ctsilc.org/wp-content/uploads/2025/03/eprep-512-e1770845838262.png
END:VEVENT
BEGIN:VEVENT
DTSTART;TZID=UTC:20251008T130000
DTEND;TZID=UTC:20251008T140000
DTSTAMP:20260423T203434
CREATED:20250307T185555Z
LAST-MODIFIED:20260211T214734Z
UID:10000983-1759928400-1759932000@ctsilc.org
SUMMARY:State Plan for Independent Living (SPIL) Committee
DESCRIPTION:To join our virtual meeting please email Michele DuBois for a Zoom link.
URL:https://ctsilc.org/event/state-plan-for-independent-living-spil-committee-3-2-2-2/2025-10-08/
LOCATION:Virtual Via Zoom
CATEGORIES:State Plan for Independent Living (SPIL) Committee
ATTACH;FMTTYPE=image/png:https://ctsilc.org/wp-content/uploads/2025/03/plan-spil.png
END:VEVENT
BEGIN:VEVENT
DTSTART;TZID=UTC:20250918T100000
DTEND;TZID=UTC:20250918T110000
DTSTAMP:20260423T203434
CREATED:20250307T183807Z
LAST-MODIFIED:20260211T212154Z
UID:10000954-1758189600-1758193200@ctsilc.org
SUMMARY:Emergency Preparedness Committee
DESCRIPTION:To join our virtual meeting please email Michele DuBois for a Zoom link. 
URL:https://ctsilc.org/event/emergency-preparedness-committee/2025-09-18/
LOCATION:Virtual Via Zoom
CATEGORIES:Emergency Preparedness Committee
ATTACH;FMTTYPE=image/png:https://ctsilc.org/wp-content/uploads/2025/03/eprep-512-e1770845838262.png
END:VEVENT
BEGIN:VEVENT
DTSTART;TZID=UTC:20250910T130000
DTEND;TZID=UTC:20250910T140000
DTSTAMP:20260423T203434
CREATED:20250307T185555Z
LAST-MODIFIED:20260211T214734Z
UID:10000982-1757509200-1757512800@ctsilc.org
SUMMARY:State Plan for Independent Living (SPIL) Committee
DESCRIPTION:To join our virtual meeting please email Michele DuBois for a Zoom link.
URL:https://ctsilc.org/event/state-plan-for-independent-living-spil-committee-3-2-2-2/2025-09-10/
LOCATION:Virtual Via Zoom
CATEGORIES:State Plan for Independent Living (SPIL) Committee
ATTACH;FMTTYPE=image/png:https://ctsilc.org/wp-content/uploads/2025/03/plan-spil.png
END:VEVENT
BEGIN:VEVENT
DTSTART;TZID=UTC:20250821T100000
DTEND;TZID=UTC:20250821T110000
DTSTAMP:20260423T203434
CREATED:20250307T183807Z
LAST-MODIFIED:20260211T212154Z
UID:10000953-1755770400-1755774000@ctsilc.org
SUMMARY:Emergency Preparedness Committee
DESCRIPTION:To join our virtual meeting please email Michele DuBois for a Zoom link. 
URL:https://ctsilc.org/event/emergency-preparedness-committee/2025-08-21/
LOCATION:Virtual Via Zoom
CATEGORIES:Emergency Preparedness Committee
ATTACH;FMTTYPE=image/png:https://ctsilc.org/wp-content/uploads/2025/03/eprep-512-e1770845838262.png
END:VEVENT
BEGIN:VEVENT
DTSTART;TZID=UTC:20250813T130000
DTEND;TZID=UTC:20250813T140000
DTSTAMP:20260423T203434
CREATED:20250307T185555Z
LAST-MODIFIED:20260211T214734Z
UID:10000981-1755090000-1755093600@ctsilc.org
SUMMARY:State Plan for Independent Living (SPIL) Committee
DESCRIPTION:To join our virtual meeting please email Michele DuBois for a Zoom link.
URL:https://ctsilc.org/event/state-plan-for-independent-living-spil-committee-3-2-2-2/2025-08-13/
LOCATION:Virtual Via Zoom
CATEGORIES:State Plan for Independent Living (SPIL) Committee
ATTACH;FMTTYPE=image/png:https://ctsilc.org/wp-content/uploads/2025/03/plan-spil.png
END:VEVENT
BEGIN:VEVENT
DTSTART;TZID=UTC:20250717T100000
DTEND;TZID=UTC:20250717T110000
DTSTAMP:20260423T203434
CREATED:20250307T183807Z
LAST-MODIFIED:20260211T212154Z
UID:10000952-1752746400-1752750000@ctsilc.org
SUMMARY:Emergency Preparedness Committee
DESCRIPTION:To join our virtual meeting please email Michele DuBois for a Zoom link. 
URL:https://ctsilc.org/event/emergency-preparedness-committee/2025-07-17/
LOCATION:Virtual Via Zoom
CATEGORIES:Emergency Preparedness Committee
ATTACH;FMTTYPE=image/png:https://ctsilc.org/wp-content/uploads/2025/03/eprep-512-e1770845838262.png
END:VEVENT
BEGIN:VEVENT
DTSTART;TZID=UTC:20250709T130000
DTEND;TZID=UTC:20250709T140000
DTSTAMP:20260423T203434
CREATED:20250307T185555Z
LAST-MODIFIED:20260211T214734Z
UID:10000980-1752066000-1752069600@ctsilc.org
SUMMARY:State Plan for Independent Living (SPIL) Committee
DESCRIPTION:To join our virtual meeting please email Michele DuBois for a Zoom link.
URL:https://ctsilc.org/event/state-plan-for-independent-living-spil-committee-3-2-2-2/2025-07-09/
LOCATION:Virtual Via Zoom
CATEGORIES:State Plan for Independent Living (SPIL) Committee
ATTACH;FMTTYPE=image/png:https://ctsilc.org/wp-content/uploads/2025/03/plan-spil.png
END:VEVENT
BEGIN:VEVENT
DTSTART;TZID=UTC:20250619T100000
DTEND;TZID=UTC:20250619T110000
DTSTAMP:20260423T203434
CREATED:20250307T183807Z
LAST-MODIFIED:20260211T212154Z
UID:10000951-1750327200-1750330800@ctsilc.org
SUMMARY:Emergency Preparedness Committee
DESCRIPTION:To join our virtual meeting please email Michele DuBois for a Zoom link. 
URL:https://ctsilc.org/event/emergency-preparedness-committee/2025-06-19/
LOCATION:Virtual Via Zoom
CATEGORIES:Emergency Preparedness Committee
ATTACH;FMTTYPE=image/png:https://ctsilc.org/wp-content/uploads/2025/03/eprep-512-e1770845838262.png
END:VEVENT
BEGIN:VEVENT
DTSTART;TZID=UTC:20250611T130000
DTEND;TZID=UTC:20250611T140000
DTSTAMP:20260423T203434
CREATED:20250307T185555Z
LAST-MODIFIED:20260211T214734Z
UID:10000979-1749646800-1749650400@ctsilc.org
SUMMARY:State Plan for Independent Living (SPIL) Committee
DESCRIPTION:To join our virtual meeting please email Michele DuBois for a Zoom link.
URL:https://ctsilc.org/event/state-plan-for-independent-living-spil-committee-3-2-2-2/2025-06-11/
LOCATION:Virtual Via Zoom
CATEGORIES:State Plan for Independent Living (SPIL) Committee
ATTACH;FMTTYPE=image/png:https://ctsilc.org/wp-content/uploads/2025/03/plan-spil.png
END:VEVENT
BEGIN:VEVENT
DTSTART;TZID=UTC:20250519T150000
DTEND;TZID=UTC:20250519T170000
DTSTAMP:20260423T203434
CREATED:20250124T181644Z
LAST-MODIFIED:20260211T212804Z
UID:10000973-1747666800-1747674000@ctsilc.org
SUMMARY:SILC Monthly Board Meeting
DESCRIPTION:To join our virtual meeting please email Michele DuBois for a Zoom link.
URL:https://ctsilc.org/event/silc-board-meeting-4-3/2025-05-19/
LOCATION:Virtual Via Zoom
CATEGORIES:SILC Monthly Board Meeting
ATTACH;FMTTYPE=image/png:https://ctsilc.org/wp-content/uploads/2025/01/SILC-Board-meeting-1-e1770845804535.png
END:VEVENT
BEGIN:VEVENT
DTSTART;TZID=UTC:20250515T100000
DTEND;TZID=UTC:20250515T110000
DTSTAMP:20260423T203434
CREATED:20250307T183807Z
LAST-MODIFIED:20260211T212154Z
UID:10000889-1747303200-1747306800@ctsilc.org
SUMMARY:Emergency Preparedness Committee
DESCRIPTION:To join our virtual meeting please email Michele DuBois for a Zoom link. 
URL:https://ctsilc.org/event/emergency-preparedness-committee/2025-05-15/
LOCATION:Virtual Via Zoom
CATEGORIES:Emergency Preparedness Committee
ATTACH;FMTTYPE=image/png:https://ctsilc.org/wp-content/uploads/2025/03/eprep-512-e1770845838262.png
END:VEVENT
BEGIN:VEVENT
DTSTART;TZID=UTC:20250514T130000
DTEND;TZID=UTC:20250514T140000
DTSTAMP:20260423T203434
CREATED:20250307T185555Z
LAST-MODIFIED:20260211T214734Z
UID:10000978-1747227600-1747231200@ctsilc.org
SUMMARY:State Plan for Independent Living (SPIL) Committee
DESCRIPTION:To join our virtual meeting please email Michele DuBois for a Zoom link.
URL:https://ctsilc.org/event/state-plan-for-independent-living-spil-committee-3-2-2-2/2025-05-14/
LOCATION:Virtual Via Zoom
CATEGORIES:State Plan for Independent Living (SPIL) Committee
ATTACH;FMTTYPE=image/png:https://ctsilc.org/wp-content/uploads/2025/03/plan-spil.png
END:VEVENT
END:VCALENDAR